BEGIN:VCALENDAR
VERSION:2.0
PRODID:-//Presbytery of Giddings-Lovejoy - ECPv6.15.18//NONSGML v1.0//EN
CALSCALE:GREGORIAN
METHOD:PUBLISH
X-ORIGINAL-URL:https://glpby.org
X-WR-CALDESC:Events for Presbytery of Giddings-Lovejoy
REFRESH-INTERVAL;VALUE=DURATION:PT1H
X-Robots-Tag:noindex
X-PUBLISHED-TTL:PT1H
BEGIN:VTIMEZONE
TZID:America/Chicago
BEGIN:DAYLIGHT
TZOFFSETFROM:-0600
TZOFFSETTO:-0500
TZNAME:CDT
DTSTART:20220313T080000
END:DAYLIGHT
BEGIN:STANDARD
TZOFFSETFROM:-0500
TZOFFSETTO:-0600
TZNAME:CST
DTSTART:20221106T070000
END:STANDARD
BEGIN:DAYLIGHT
TZOFFSETFROM:-0600
TZOFFSETTO:-0500
TZNAME:CDT
DTSTART:20230312T080000
END:DAYLIGHT
BEGIN:STANDARD
TZOFFSETFROM:-0500
TZOFFSETTO:-0600
TZNAME:CST
DTSTART:20231105T070000
END:STANDARD
BEGIN:DAYLIGHT
TZOFFSETFROM:-0600
TZOFFSETTO:-0500
TZNAME:CDT
DTSTART:20240310T080000
END:DAYLIGHT
BEGIN:STANDARD
TZOFFSETFROM:-0500
TZOFFSETTO:-0600
TZNAME:CST
DTSTART:20241103T070000
END:STANDARD
BEGIN:DAYLIGHT
TZOFFSETFROM:-0600
TZOFFSETTO:-0500
TZNAME:CDT
DTSTART:20250309T080000
END:DAYLIGHT
BEGIN:STANDARD
TZOFFSETFROM:-0500
TZOFFSETTO:-0600
TZNAME:CST
DTSTART:20251102T070000
END:STANDARD
BEGIN:DAYLIGHT
TZOFFSETFROM:-0600
TZOFFSETTO:-0500
TZNAME:CDT
DTSTART:20260308T080000
END:DAYLIGHT
BEGIN:STANDARD
TZOFFSETFROM:-0500
TZOFFSETTO:-0600
TZNAME:CST
DTSTART:20261101T070000
END:STANDARD
END:VTIMEZONE
BEGIN:VEVENT
DTSTART;VALUE=DATE:20250324
DTEND;VALUE=DATE:20250325
DTSTAMP:20260419T230603
CREATED:20250128T163354Z
LAST-MODIFIED:20250320T170148Z
UID:44800-1742774400-1742860799@glpby.org
SUMMARY:Project 2025 Explained: A Faith Based Discussion
DESCRIPTION:
URL:https://glpby.org/event/project-2025-explained-a-faith-based-discussion/2025-03-24/
LOCATION:Zoom
END:VEVENT
BEGIN:VEVENT
DTSTART;TZID=America/Chicago:20250321T130000
DTEND;TZID=America/Chicago:20250321T143000
DTSTAMP:20260419T230603
CREATED:20250310T202449Z
LAST-MODIFIED:20250310T202449Z
UID:45126-1742562000-1742567400@glpby.org
SUMMARY:Commission on Preparation for Ministry
DESCRIPTION:
URL:https://glpby.org/event/commission-on-preparation-for-ministry-5/
LOCATION:Zoom
END:VEVENT
BEGIN:VEVENT
DTSTART;TZID=America/Chicago:20250321T100000
DTEND;TZID=America/Chicago:20250321T120000
DTSTAMP:20260419T230603
CREATED:20250130T220105Z
LAST-MODIFIED:20250410T152410Z
UID:44840-1742551200-1742558400@glpby.org
SUMMARY:PW Coordinating Team
DESCRIPTION:Zoom meeting:  PW Coordinating Council\nEvery month on the Third Friday \nJoin Zoom Meeting\nhttps://us02web.zoom.us/j/86939076534 \nMeeting ID: 869 3907 6534 \nDial in: (312) 626-6799 \n 
URL:https://glpby.org/event/presbyterian-women-coordinating-council/2025-03-21/
LOCATION:Zoom
CATEGORIES:Meetings,Presbyterian Women
END:VEVENT
BEGIN:VEVENT
DTSTART;TZID=America/Chicago:20250318T180000
DTEND;TZID=America/Chicago:20250318T180000
DTSTAMP:20260419T230603
CREATED:20250317T182727Z
LAST-MODIFIED:20250317T182750Z
UID:45178-1742320800-1742320800@glpby.org
SUMMARY:Joining Hands Meeting
DESCRIPTION:We will meet on Zoom.  Here is the link: CLICK HERE \nIf using a Zoom App\, use the Meeting ID 8401 635 8336\nMeeting ID: Passcode: 532134  (If you need it.) \nJed will have a very important update from Peru.  The reorganization of the Presbyterian Mission has been completed.  As of March 25\, both Jed and Jenny will have titles as International Ecumenical Liasons.  They will continue to live in Lima.  Jenny will continue to work with YAVs.  Jed will no longer work directly with PHP and JH. Jed will help us understand all this and discuss the future of JH.
URL:https://glpby.org/event/joining-hands-meeting-3/
LOCATION:Zoom
CATEGORIES:Events
END:VEVENT
BEGIN:VEVENT
DTSTART;TZID=America/Chicago:20250313T160000
DTEND;TZID=America/Chicago:20250313T170000
DTSTAMP:20260419T230603
CREATED:20250305T154011Z
LAST-MODIFIED:20250305T154011Z
UID:45085-1741881600-1741885200@glpby.org
SUMMARY:Committee on Nominations
DESCRIPTION:Zoom link: https://us02web.zoom.us/j/81846713354
URL:https://glpby.org/event/committee-on-nominations-5/
LOCATION:Zoom
END:VEVENT
BEGIN:VEVENT
DTSTART;TZID=America/Chicago:20250227T183000
DTEND;TZID=America/Chicago:20250227T200000
DTSTAMP:20260419T230603
CREATED:20240710T205212Z
LAST-MODIFIED:20240710T205212Z
UID:44792-1740681000-1740686400@glpby.org
SUMMARY:February Thursday Education Evenings
DESCRIPTION:Dynamic Leaders Presents…  \nFebruary Thursday Education Evenings at 6:30 pm on: \nStewardship of the Church: How to Ask | How to Manage | How to Fund  \nRegistration is found by clicking here. \n·        February 13 Stewardship Best Practices: The ABCs with Rev. Liz Rolf Kanerva\, Associate Presbytery Leader \n·        February 20 The Work of the Treasurer\, with Rev. Edd Breeden. Edd is the author of multiple church resources including The Church Treasurers Manual. The first 10 treasurers or finance committee chairs to register will receive a free copy. \n·        February 27 Stewarding Our Sacred Spaces\, with Rev. Ed Zumwinkel. Ed will give an overview of Webster Groves Presbyterian Church’s efforts to expand the building usage beyond Sunday morning. Q&A will follow.
URL:https://glpby.org/event/september-education-event/2025-02-27/
LOCATION:Zoom
CATEGORIES:Education
END:VEVENT
BEGIN:VEVENT
DTSTART;TZID=America/Chicago:20250221T100000
DTEND;TZID=America/Chicago:20250221T120000
DTSTAMP:20260419T230603
CREATED:20250130T220105Z
LAST-MODIFIED:20250410T152410Z
UID:44839-1740132000-1740139200@glpby.org
SUMMARY:PW Coordinating Team
DESCRIPTION:Zoom meeting:  PW Coordinating Council\nEvery month on the Third Friday \nJoin Zoom Meeting\nhttps://us02web.zoom.us/j/86939076534 \nMeeting ID: 869 3907 6534 \nDial in: (312) 626-6799 \n 
URL:https://glpby.org/event/presbyterian-women-coordinating-council/2025-02-21/
LOCATION:Zoom
CATEGORIES:Meetings,Presbyterian Women
END:VEVENT
BEGIN:VEVENT
DTSTART;TZID=America/Chicago:20250220T183000
DTEND;TZID=America/Chicago:20250220T200000
DTSTAMP:20260419T230603
CREATED:20240710T205212Z
LAST-MODIFIED:20240710T205212Z
UID:44791-1740076200-1740081600@glpby.org
SUMMARY:February Thursday Education Evenings
DESCRIPTION:Dynamic Leaders Presents…  \nFebruary Thursday Education Evenings at 6:30 pm on: \nStewardship of the Church: How to Ask | How to Manage | How to Fund  \nRegistration is found by clicking here. \n·        February 13 Stewardship Best Practices: The ABCs with Rev. Liz Rolf Kanerva\, Associate Presbytery Leader \n·        February 20 The Work of the Treasurer\, with Rev. Edd Breeden. Edd is the author of multiple church resources including The Church Treasurers Manual. The first 10 treasurers or finance committee chairs to register will receive a free copy. \n·        February 27 Stewarding Our Sacred Spaces\, with Rev. Ed Zumwinkel. Ed will give an overview of Webster Groves Presbyterian Church’s efforts to expand the building usage beyond Sunday morning. Q&A will follow.
URL:https://glpby.org/event/september-education-event/2025-02-20/
LOCATION:Zoom
CATEGORIES:Education
END:VEVENT
BEGIN:VEVENT
DTSTART;TZID=America/Chicago:20250213T183000
DTEND;TZID=America/Chicago:20250213T200000
DTSTAMP:20260419T230603
CREATED:20240710T205212Z
LAST-MODIFIED:20250122T193106Z
UID:43968-1739471400-1739476800@glpby.org
SUMMARY:February Thursday Education Evenings
DESCRIPTION:Dynamic Leaders Presents…  \nFebruary Thursday Education Evenings at 6:30 pm on: \nStewardship of the Church: How to Ask | How to Manage | How to Fund  \nRegistration is found by clicking here. \n·        February 13 Stewardship Best Practices: The ABCs with Rev. Liz Rolf Kanerva\, Associate Presbytery Leader \n·        February 20 The Work of the Treasurer\, with Rev. Edd Breeden. Edd is the author of multiple church resources including The Church Treasurers Manual. The first 10 treasurers or finance committee chairs to register will receive a free copy. \n·        February 27 Stewarding Our Sacred Spaces\, with Rev. Ed Zumwinkel. Ed will give an overview of Webster Groves Presbyterian Church’s efforts to expand the building usage beyond Sunday morning. Q&A will follow.
URL:https://glpby.org/event/september-education-event/2025-02-13/
LOCATION:Zoom
CATEGORIES:Education
END:VEVENT
BEGIN:VEVENT
DTSTART;TZID=America/Chicago:20250212T190000
DTEND;TZID=America/Chicago:20250212T200000
DTSTAMP:20260419T230603
CREATED:20250211T181641Z
LAST-MODIFIED:20250211T183204Z
UID:44938-1739386800-1739390400@glpby.org
SUMMARY:DRAWP Justice Journey Q & A
DESCRIPTION:Journey with fellow Presbyterians (October 9-October 13\, 2025) and immerse yourself in learning\, reflection\, and action as we explore the following Civil Rights sites: Birmingham Civil Rights Institute\, 16th Street Baptist Church\, the Legacy Museum & National Memorial for Peace and Justice\, a guided tour of Selma\, National Voting Rights Museum and Institute\, and the Pettus Bridge.\nPlease join DRAWP Journey leadership for this information meeting. We look forward to welcoming you and your questions! \nZoom Link emailed to those registered at Noon on Wednesday\, February 11 \nREGISTER HERE
URL:https://glpby.org/event/drawp-justice-journey-q-a/
LOCATION:Zoom
CATEGORIES:Dismantling Racism and White Privilege
END:VEVENT
BEGIN:VEVENT
DTSTART;TZID=America/Chicago:20250123T190000
DTEND;TZID=America/Chicago:20250123T203000
DTSTAMP:20260419T230603
CREATED:20241112T174053Z
LAST-MODIFIED:20241112T174053Z
UID:44517-1737658800-1737664200@glpby.org
SUMMARY:GA Amendment Town Hall
DESCRIPTION:
URL:https://glpby.org/event/ga-amendment-town-hall/
LOCATION:Zoom
CATEGORIES:Education
END:VEVENT
BEGIN:VEVENT
DTSTART;TZID=America/Chicago:20250116T183000
DTEND;TZID=America/Chicago:20250116T203000
DTSTAMP:20260419T230603
CREATED:20240926T173451Z
LAST-MODIFIED:20240926T173451Z
UID:44249-1737052200-1737059400@glpby.org
SUMMARY:Ruling Elder Boundary Training
DESCRIPTION:This event is still being planned. Full details will be coming soon.
URL:https://glpby.org/event/ruling-elder-boundary-training/
LOCATION:Zoom
END:VEVENT
BEGIN:VEVENT
DTSTART;TZID=America/Chicago:20250107T130000
DTEND;TZID=America/Chicago:20250107T140000
DTSTAMP:20260419T230603
CREATED:20241216T193156Z
LAST-MODIFIED:20241216T193156Z
UID:44623-1736254800-1736258400@glpby.org
SUMMARY:Committee on Nominations
DESCRIPTION:Zoom link: https://us02web.zoom.us/j/81822694447 \n 
URL:https://glpby.org/event/committee-on-nominations-4/
LOCATION:Zoom
END:VEVENT
BEGIN:VEVENT
DTSTART;TZID=America/Chicago:20241121T110000
DTEND;TZID=America/Chicago:20241121T123000
DTSTAMP:20260419T230603
CREATED:20241107T173831Z
LAST-MODIFIED:20241107T173858Z
UID:44493-1732186800-1732192200@glpby.org
SUMMARY:New Worshiping Communities Commission
DESCRIPTION:
URL:https://glpby.org/event/new-worshipin-communities-commission/
LOCATION:Zoom
CATEGORIES:Meetings
END:VEVENT
BEGIN:VEVENT
DTSTART;TZID=America/Chicago:20241119T153000
DTEND;TZID=America/Chicago:20241119T170000
DTSTAMP:20260419T230603
CREATED:20241118T153733Z
LAST-MODIFIED:20241118T153733Z
UID:44522-1732030200-1732035600@glpby.org
SUMMARY:Global Partnerships Meeting
DESCRIPTION:
URL:https://glpby.org/event/global-partnerships-meeting/
LOCATION:Zoom
END:VEVENT
BEGIN:VEVENT
DTSTART;TZID=America/Chicago:20241024T190000
DTEND;TZID=America/Chicago:20241024T203000
DTSTAMP:20260419T230603
CREATED:20240829T172628Z
LAST-MODIFIED:20240927T144417Z
UID:44118-1729796400-1729801800@glpby.org
SUMMARY:Public Witness Ed Event with Rev. Dr. Clint McCann
DESCRIPTION:
URL:https://glpby.org/event/public-witness-ed-event/
LOCATION:Zoom
CATEGORIES:Public Witness
END:VEVENT
BEGIN:VEVENT
DTSTART;VALUE=DATE:20241003
DTEND;VALUE=DATE:20241004
DTSTAMP:20260419T230603
CREATED:20240710T205635Z
LAST-MODIFIED:20240801T190945Z
UID:43974-1727913600-1727999999@glpby.org
SUMMARY:"Jesus and the Powers"  Zoom Book Conversation
DESCRIPTION:Click here for more information and to register: https://glpby.org/services/public-witness-book-study/ \nThe study will begin at 7:00 pm on August 1\, September 5\, and October 3 evenings. \nThe Zoom link for this study will remain the same throughout. The Zoom link is https://us02web.zoom.us/j/81984761808 \nIf you use the Zoom app\, please enter the meeting ID: 819 8476 1808.
URL:https://glpby.org/event/jesus-and-the-powers-zoom-book-conversation/2024-10-03/
LOCATION:Zoom
END:VEVENT
BEGIN:VEVENT
DTSTART;VALUE=DATE:20240905
DTEND;VALUE=DATE:20240906
DTSTAMP:20260419T230603
CREATED:20240710T205635Z
LAST-MODIFIED:20240801T190945Z
UID:43973-1725494400-1725580799@glpby.org
SUMMARY:"Jesus and the Powers"  Zoom Book Conversation
DESCRIPTION:Click here for more information and to register: https://glpby.org/services/public-witness-book-study/ \nThe study will begin at 7:00 pm on August 1\, September 5\, and October 3 evenings. \nThe Zoom link for this study will remain the same throughout. The Zoom link is https://us02web.zoom.us/j/81984761808 \nIf you use the Zoom app\, please enter the meeting ID: 819 8476 1808.
URL:https://glpby.org/event/jesus-and-the-powers-zoom-book-conversation/2024-09-05/
LOCATION:Zoom
END:VEVENT
BEGIN:VEVENT
DTSTART;TZID=America/Chicago:20240806T183000
DTEND;TZID=America/Chicago:20240806T200000
DTSTAMP:20260419T230603
CREATED:20240618T170229Z
LAST-MODIFIED:20240624T174959Z
UID:43869-1722969000-1722974400@glpby.org
SUMMARY:BOP Season of Rebuilding Zoom
DESCRIPTION:GLPBY Board of Pensions – Season of Rebuilding Overview\nHosted by GLPBY Task Force\nTuesday\, August 6\, 2024 at 6:30 p.m.\nVia Zoom: https://us02web.zoom.us/j/85004699192\nWho should attend? Actively serving pastors\, clerks of session\, personnel chairs\, session members\, and church treasurers.\nResource Links:\nhttps://seasonofrebuilding.pensions.org/2025-plan-changes/dues-packages\nhttps://www.pensions.org/decision-guide/ \nFriends\, I apologize for causing confusion and inconvenience. The BOP Overview will be held on Tuesday\, August 6th at 6:30 p.m.\, rather than August 1st.  The original date conflicts with the Public Witness Book Study and I do not want folks to have to choose between the two. Peace\, Liz Rolf Kanerva
URL:https://glpby.org/event/bop-season-of-rebuilding-zoom/
LOCATION:Zoom
CATEGORIES:Meetings
ATTACH;FMTTYPE=image/png:https://glpby.org/wp-content/uploads/BOP-logo-1.png
END:VEVENT
BEGIN:VEVENT
DTSTART;VALUE=DATE:20240801
DTEND;VALUE=DATE:20240802
DTSTAMP:20260419T230603
CREATED:20240710T205635Z
LAST-MODIFIED:20240801T190945Z
UID:43972-1722470400-1722556799@glpby.org
SUMMARY:"Jesus and the Powers"  Zoom Book Conversation
DESCRIPTION:Click here for more information and to register: https://glpby.org/services/public-witness-book-study/ \nThe study will begin at 7:00 pm on August 1\, September 5\, and October 3 evenings. \nThe Zoom link for this study will remain the same throughout. The Zoom link is https://us02web.zoom.us/j/81984761808 \nIf you use the Zoom app\, please enter the meeting ID: 819 8476 1808.
URL:https://glpby.org/event/jesus-and-the-powers-zoom-book-conversation/2024-08-01/
LOCATION:Zoom
END:VEVENT
BEGIN:VEVENT
DTSTART;TZID=America/Chicago:20240711T150000
DTEND;TZID=America/Chicago:20240711T160000
DTSTAMP:20260419T230603
CREATED:20240703T205033Z
LAST-MODIFIED:20240703T205033Z
UID:43931-1720710000-1720713600@glpby.org
SUMMARY:Committee on Nominations
DESCRIPTION:Zoom link: https://us02web.zoom.us/j/87931705620 \n 
URL:https://glpby.org/event/committee-on-nominations-3/
LOCATION:Zoom
END:VEVENT
BEGIN:VEVENT
DTSTART;TZID=America/Chicago:20240529T100000
DTEND;TZID=America/Chicago:20240529T110000
DTSTAMP:20260419T230603
CREATED:20240521T142238Z
LAST-MODIFIED:20240521T142238Z
UID:43657-1716976800-1716980400@glpby.org
SUMMARY:Retired Pastors Cohort Zoom
DESCRIPTION:Join Zoom Meeting\nhttps://us02web.zoom.us/j/81531227312 \nMeeting ID: 815 3122 7312 \nDial in: (312) 626-6799
URL:https://glpby.org/event/retired-pastors-cohort-zoom/
LOCATION:Zoom
CATEGORIES:Pastor Meetings
END:VEVENT
BEGIN:VEVENT
DTSTART;TZID=America/Chicago:20240305T090000
DTEND;TZID=America/Chicago:20240305T120000
DTSTAMP:20260419T230603
CREATED:20240119T182709Z
LAST-MODIFIED:20240119T182710Z
UID:42912-1709629200-1709640000@glpby.org
SUMMARY:LeaderWise Pastor Boundary Training
DESCRIPTION:Please check with Associate Presbytery Leader\, Rev. Liz Kanerva at 314.772.2395 or email ekanerva@glpby.org
URL:https://glpby.org/event/leaderwise-pastor-boundary-training/2024-03-05/
LOCATION:Zoom
END:VEVENT
BEGIN:VEVENT
DTSTART;TZID=America/Chicago:20230705T170000
DTEND;TZID=America/Chicago:20230705T180000
DTSTAMP:20260419T230603
CREATED:20230703T160405Z
LAST-MODIFIED:20230703T160405Z
UID:41781-1688576400-1688580000@glpby.org
SUMMARY:Committee on Nominations
DESCRIPTION:The moderator will send zoom link.
URL:https://glpby.org/event/committee-on-nominations-2/
LOCATION:Zoom
END:VEVENT
BEGIN:VEVENT
DTSTART;TZID=America/Chicago:20230516T113000
DTEND;TZID=America/Chicago:20230516T123000
DTSTAMP:20260419T230603
CREATED:20230417T200413Z
LAST-MODIFIED:20230509T201025Z
UID:41140-1684236600-1684240200@glpby.org
SUMMARY:Family Church Pastor Cohort
DESCRIPTION:Family Church Cohort  – May 16th at 11:30 a.m.\nSave the Date! Join on Zoom: https://us02web.zoom.us/j/83475173600\nFamily-sized churches do all the ministry of program size churches\, but the contexts and cultures are distinct. Pastors are invited to gather for fellowship\, conversation\, and mutual support. The first gathering will be a brown bag lunch via Zoom. Information will be posted in early May. If you have any questions please contact Liz Rolf Kanerva\, Associate Presbytery Leader at ekanerva@glpby.org or 314-772-2395.
URL:https://glpby.org/event/family-church-pastor-cohort/
LOCATION:Zoom
CATEGORIES:Pastor Meetings
END:VEVENT
BEGIN:VEVENT
DTSTART;TZID=America/Chicago:20230427T133000
DTEND;TZID=America/Chicago:20230427T143000
DTSTAMP:20260419T230603
CREATED:20230418T182832Z
LAST-MODIFIED:20230418T182850Z
UID:41157-1682602200-1682605800@glpby.org
SUMMARY:Commission on Preparation for Ministry
DESCRIPTION:Moderator\, Rev. Dr. Rueben Rosario-Rodriguez will email the link to commission members.
URL:https://glpby.org/event/commission-on-preparation-for-ministry-copy/
LOCATION:Zoom
END:VEVENT
BEGIN:VEVENT
DTSTART;TZID=America/Chicago:20230327T120000
DTEND;TZID=America/Chicago:20230327T130000
DTSTAMP:20260419T230603
CREATED:20210309T154743Z
LAST-MODIFIED:20230503T133508Z
UID:36848-1679918400-1679922000@glpby.org
SUMMARY:Rural Pastors
DESCRIPTION:Topic: Rural Pastors\nEvery month on the Fourth Monday \nJoin Zoom Meeting\nhttps://us02web.zoom.us/j/89662559439 \nMeeting ID: 896 6255 9439 \nDial in: (312) 626-6799
URL:https://glpby.org/event/rural-pastors-2023-03-27/
LOCATION:Zoom
END:VEVENT
BEGIN:VEVENT
DTSTART;TZID=America/Chicago:20230126T130000
DTEND;TZID=America/Chicago:20230126T140000
DTSTAMP:20260419T230603
CREATED:20230109T163101Z
LAST-MODIFIED:20230302T203104Z
UID:40630-1674738000-1674741600@glpby.org
SUMMARY:Committee on Nominations
DESCRIPTION:The moderator will send zoom link.
URL:https://glpby.org/event/committee-on-nominations-2023-01-26/2023-01-26/
LOCATION:Zoom
END:VEVENT
BEGIN:VEVENT
DTSTART;TZID=America/Chicago:20230119T133000
DTEND;TZID=America/Chicago:20230119T143000
DTSTAMP:20260419T230603
CREATED:20230109T163403Z
LAST-MODIFIED:20230109T163403Z
UID:40546-1674135000-1674138600@glpby.org
SUMMARY:Commission on Preparation for Ministry
DESCRIPTION:The moderator will send zoom link.
URL:https://glpby.org/event/commission-on-preparation-for-ministry-3/
LOCATION:Zoom
END:VEVENT
BEGIN:VEVENT
DTSTART;TZID=America/Chicago:20230117T183000
DTEND;TZID=America/Chicago:20230117T203000
DTSTAMP:20260419T230603
CREATED:20230109T152044Z
LAST-MODIFIED:20230109T152044Z
UID:40542-1673980200-1673987400@glpby.org
SUMMARY:Joining Hands meeting
DESCRIPTION:The next meeting of Joining Hands will be on Tuesday\, January 17\, 2023.   We will begin at 6:30 pm (CST) on Zoom.  Zoom link is below. \nJed Koball will give us updates from Peru.  This will include a presentation on the new initiatives  of Joining Hands Peru (“The Red.”)   This will be an important update for our future programing  and planning.  You don’t want to miss it! \nJoin Zoom Meeting\nhttps://us02web.zoom.us/j/84016358336?pwd=TWZmZS9RUFB1b2NIS29RRlpBQm1mQT09 \nMeeting ID: 840 1635 8336\nPasscode: 532134
URL:https://glpby.org/event/joining-hands-meeting-2/
LOCATION:Zoom
END:VEVENT
END:VCALENDAR