BEGIN:VCALENDAR
VERSION:2.0
PRODID:-//Presbytery of Giddings-Lovejoy - ECPv6.15.18//NONSGML v1.0//EN
CALSCALE:GREGORIAN
METHOD:PUBLISH
X-ORIGINAL-URL:https://glpby.org
X-WR-CALDESC:Events for Presbytery of Giddings-Lovejoy
REFRESH-INTERVAL;VALUE=DURATION:PT1H
X-Robots-Tag:noindex
X-PUBLISHED-TTL:PT1H
BEGIN:VTIMEZONE
TZID:America/Chicago
BEGIN:DAYLIGHT
TZOFFSETFROM:-0600
TZOFFSETTO:-0500
TZNAME:CDT
DTSTART:20220313T080000
END:DAYLIGHT
BEGIN:STANDARD
TZOFFSETFROM:-0500
TZOFFSETTO:-0600
TZNAME:CST
DTSTART:20221106T070000
END:STANDARD
BEGIN:DAYLIGHT
TZOFFSETFROM:-0600
TZOFFSETTO:-0500
TZNAME:CDT
DTSTART:20230312T080000
END:DAYLIGHT
BEGIN:STANDARD
TZOFFSETFROM:-0500
TZOFFSETTO:-0600
TZNAME:CST
DTSTART:20231105T070000
END:STANDARD
BEGIN:DAYLIGHT
TZOFFSETFROM:-0600
TZOFFSETTO:-0500
TZNAME:CDT
DTSTART:20240310T080000
END:DAYLIGHT
BEGIN:STANDARD
TZOFFSETFROM:-0500
TZOFFSETTO:-0600
TZNAME:CST
DTSTART:20241103T070000
END:STANDARD
END:VTIMEZONE
BEGIN:VEVENT
DTSTART;TZID=America/Chicago:20230129T140000
DTEND;TZID=America/Chicago:20230129T160000
DTSTAMP:20260424T041923
CREATED:20230104T161037Z
LAST-MODIFIED:20230104T161103Z
UID:40511-1675000800-1675008000@glpby.org
SUMMARY:Elder Darlene Tricamo Commissioning Service
DESCRIPTION:Elder Darlene Tricamo will be commissioned to serve Rock Presbyterian Church.
URL:https://glpby.org/event/elder-darlene-tricamo-commissioning-service/
LOCATION:Rock Presbyterian Church\, 6439 Highway 61-67\, Imperial\, 63052
END:VEVENT
END:VCALENDAR