BEGIN:VCALENDAR
VERSION:2.0
PRODID:-//Presbytery of Giddings-Lovejoy - ECPv6.15.18//NONSGML v1.0//EN
CALSCALE:GREGORIAN
METHOD:PUBLISH
X-ORIGINAL-URL:https://glpby.org
X-WR-CALDESC:Events for Presbytery of Giddings-Lovejoy
REFRESH-INTERVAL;VALUE=DURATION:PT1H
X-Robots-Tag:noindex
X-PUBLISHED-TTL:PT1H
BEGIN:VTIMEZONE
TZID:America/Chicago
BEGIN:DAYLIGHT
TZOFFSETFROM:-0600
TZOFFSETTO:-0500
TZNAME:CDT
DTSTART:20210314T080000
END:DAYLIGHT
BEGIN:STANDARD
TZOFFSETFROM:-0500
TZOFFSETTO:-0600
TZNAME:CST
DTSTART:20211107T070000
END:STANDARD
BEGIN:DAYLIGHT
TZOFFSETFROM:-0600
TZOFFSETTO:-0500
TZNAME:CDT
DTSTART:20220313T080000
END:DAYLIGHT
BEGIN:STANDARD
TZOFFSETFROM:-0500
TZOFFSETTO:-0600
TZNAME:CST
DTSTART:20221106T070000
END:STANDARD
BEGIN:DAYLIGHT
TZOFFSETFROM:-0600
TZOFFSETTO:-0500
TZNAME:CDT
DTSTART:20230312T080000
END:DAYLIGHT
BEGIN:STANDARD
TZOFFSETFROM:-0500
TZOFFSETTO:-0600
TZNAME:CST
DTSTART:20231105T070000
END:STANDARD
END:VTIMEZONE
BEGIN:VEVENT
DTSTART;TZID=America/Chicago:20220920T183000
DTEND;TZID=America/Chicago:20220920T183000
DTSTAMP:20260419T181751
CREATED:20220906T165210Z
LAST-MODIFIED:20220906T165210Z
UID:39780-1663698600-1663698600@glpby.org
SUMMARY:Global Partnerships Virtual Book Discussion
DESCRIPTION:Hunter Farrell & S. Balajieblang Khyllep will discuss their new book “Freeing Congregational Mission: A Practical Vision of Companionship\, Humility\, and Co-Development.”\nAll Christians are interested in new trends in global mission and social justice are invited to attend. \nJoin via zoom: https://us02web.zoom.us/j/84016358336?pwd=TWZmZS9RUFB1b2NIS29RRlpBQm1mQT09 \nFor more information about the book go to:\nFreeing Congregational Mission – A Practical Vision for Companionship\, Cultural Humility and Co-Development\nOn this link you can order the book with a 30% discount.   Use MISSION at checkout. \nFor more information about this virtual event\, email: strothmannmark@gmail.com or call 314-779-6940. \nThis event is being presented by the Global Partnership Ministry and the Joining Hands Peruvian Partnership of the Presbytery of Giddings-Lovejoy.
URL:https://glpby.org/event/global-partnerships-virtual-book-discussion/
LOCATION:Zoom
END:VEVENT
END:VCALENDAR