BEGIN:VCALENDAR
VERSION:2.0
PRODID:-//Presbytery of Giddings-Lovejoy - ECPv6.15.18//NONSGML v1.0//EN
CALSCALE:GREGORIAN
METHOD:PUBLISH
X-ORIGINAL-URL:https://glpby.org
X-WR-CALDESC:Events for Presbytery of Giddings-Lovejoy
REFRESH-INTERVAL;VALUE=DURATION:PT1H
X-Robots-Tag:noindex
X-PUBLISHED-TTL:PT1H
BEGIN:VTIMEZONE
TZID:America/Chicago
BEGIN:DAYLIGHT
TZOFFSETFROM:-0600
TZOFFSETTO:-0500
TZNAME:CDT
DTSTART:20230312T080000
END:DAYLIGHT
BEGIN:STANDARD
TZOFFSETFROM:-0500
TZOFFSETTO:-0600
TZNAME:CST
DTSTART:20231105T070000
END:STANDARD
BEGIN:DAYLIGHT
TZOFFSETFROM:-0600
TZOFFSETTO:-0500
TZNAME:CDT
DTSTART:20240310T080000
END:DAYLIGHT
BEGIN:STANDARD
TZOFFSETFROM:-0500
TZOFFSETTO:-0600
TZNAME:CST
DTSTART:20241103T070000
END:STANDARD
BEGIN:DAYLIGHT
TZOFFSETFROM:-0600
TZOFFSETTO:-0500
TZNAME:CDT
DTSTART:20250309T080000
END:DAYLIGHT
BEGIN:STANDARD
TZOFFSETFROM:-0500
TZOFFSETTO:-0600
TZNAME:CST
DTSTART:20251102T070000
END:STANDARD
END:VTIMEZONE
BEGIN:VEVENT
DTSTART;TZID=America/Chicago:20241102T090000
DTEND;TZID=America/Chicago:20241102T140000
DTSTAMP:20260424T205112
CREATED:20240130T161047Z
LAST-MODIFIED:20240130T161405Z
UID:43014-1730538000-1730556000@glpby.org
SUMMARY:Stated Presbytery Gathering
DESCRIPTION:Join Zoom Meeting\nhttps://us02web.zoom.us/j/89103924257 \nMeeting ID: 891 0392 4257
URL:https://glpby.org/event/stated-presbytery-gathering-11/
LOCATION:St. Mark Presbyterian Church\, 601 Claymont Drive\, Ballwin\, MO\, 63011
CATEGORIES:Gatherings
END:VEVENT
BEGIN:VEVENT
DTSTART;TZID=America/Chicago:20241103T140000
DTEND;TZID=America/Chicago:20241103T160000
DTSTAMP:20260424T205112
CREATED:20240926T150325Z
LAST-MODIFIED:20240926T150400Z
UID:44245-1730642400-1730649600@glpby.org
SUMMARY:History - Meeting Rev. Salmon Giddings
DESCRIPTION:
URL:https://glpby.org/event/history-meeting-rev-salmon-giddings/
LOCATION:Saint Charles Presbyterian Church\, 131 Gamble St\, Saint Charles\, MO\, 63301\, United States
END:VEVENT
BEGIN:VEVENT
DTSTART;VALUE=DATE:20241104
DTEND;VALUE=DATE:20241105
DTSTAMP:20260424T205112
CREATED:20241024T141653Z
LAST-MODIFIED:20241024T141653Z
UID:44470-1730678400-1730764799@glpby.org
SUMMARY:Presbytery Office Closed
DESCRIPTION:The presbytery office is closed\, on Monday\, November 4th following the November 2nd Presbytery Gathering. \nIf you have immediate needs\, please email: lporter@glpby.org or call 314-225-9470. \n 
URL:https://glpby.org/event/presbytery-office-closed-2/
END:VEVENT
BEGIN:VEVENT
DTSTART;TZID=America/Chicago:20241111T190000
DTEND;TZID=America/Chicago:20241111T210000
DTSTAMP:20260424T205112
CREATED:20210325T153144Z
LAST-MODIFIED:20210325T153144Z
UID:40290-1731351600-1731358800@glpby.org
SUMMARY:DRAWP Meeting
DESCRIPTION:DRAWP Meeting\nEvery month on the Second Monday \nJoin Zoom Meeting\nhttps://us02web.zoom.us/j/89295267531 \nMeeting ID: 892 9526 7531 \nDial in: (312) 626-6799
URL:https://glpby.org/event/drawp-moderators-meeting/2024-11-11/
END:VEVENT
BEGIN:VEVENT
DTSTART;TZID=America/Chicago:20241112T140000
DTEND;TZID=America/Chicago:20241112T153000
DTSTAMP:20260424T205112
CREATED:20240221T173757Z
LAST-MODIFIED:20240611T172517Z
UID:43174-1731420000-1731425400@glpby.org
SUMMARY:Dynamic Leaders Team Meeting
DESCRIPTION:Dynamic Leaders meet on the second Tuesday of each month. \nZoom link: https://us02web.zoom.us/j/81450894788
URL:https://glpby.org/event/dynamic-leaders-team-meeting-2024-06-11/2024-11-12/
LOCATION:Held Virtually On Zoom
END:VEVENT
BEGIN:VEVENT
DTSTART;TZID=America/Chicago:20241112T160000
DTEND;TZID=America/Chicago:20241112T170000
DTSTAMP:20260424T205112
CREATED:20210302T175751Z
LAST-MODIFIED:20240430T173034Z
UID:40292-1731427200-1731430800@glpby.org
SUMMARY:Administration Team
DESCRIPTION:Zoom meeting:  Administration Team\nEvery month on the Second Tuesday \nJoin Zoom Meeting\nhttps://us02web.zoom.us/j/84405973030 \nIf using the app\, enter Meeting ID: 844 0597 3030 \nFor those calling in\, please Dial: (312) 626-6799 and enter the Meeting ID (above)
URL:https://glpby.org/event/administration-team/2024-11-12/
CATEGORIES:Meetings
END:VEVENT
BEGIN:VEVENT
DTSTART;TZID=America/Chicago:20241114T093000
DTEND;TZID=America/Chicago:20241114T110000
DTSTAMP:20260424T205112
CREATED:20210309T152345Z
LAST-MODIFIED:20260305T215008Z
UID:44756-1731576600-1731582000@glpby.org
SUMMARY:History Workgroup
DESCRIPTION:
URL:https://glpby.org/event/history-team/2024-11-14/
LOCATION:Southminster Presbyterian Church\, 10126 E Watson Rd\, St Louis\, MO\, 63126
CATEGORIES:Meetings
END:VEVENT
BEGIN:VEVENT
DTSTART;TZID=America/Chicago:20241119T100000
DTEND;TZID=America/Chicago:20241119T110000
DTSTAMP:20260424T205112
CREATED:20210302T212240Z
LAST-MODIFIED:20241119T190129Z
UID:42991-1732010400-1732014000@glpby.org
SUMMARY:Public Witness
DESCRIPTION:Zoom meeting: Public Witness\nEvery month on the Third Tuesday \nJoin Zoom Meeting\nhttps://us02web.zoom.us/j/83061373674 \nMeeting ID: 830 6137 3674 \nDial in:  (312) 626-6799 \n 
URL:https://glpby.org/event/public-witness-2024-02-15/2024-11-19/
CATEGORIES:Meetings,Public Witness
END:VEVENT
BEGIN:VEVENT
DTSTART;TZID=America/Chicago:20241119T153000
DTEND;TZID=America/Chicago:20241119T170000
DTSTAMP:20260424T205112
CREATED:20241118T153733Z
LAST-MODIFIED:20241118T153733Z
UID:44522-1732030200-1732035600@glpby.org
SUMMARY:Global Partnerships Meeting
DESCRIPTION:
URL:https://glpby.org/event/global-partnerships-meeting/
LOCATION:Zoom
END:VEVENT
BEGIN:VEVENT
DTSTART;TZID=America/Chicago:20241120T183000
DTEND;TZID=America/Chicago:20241120T200000
DTSTAMP:20260424T205112
CREATED:20210302T183156Z
LAST-MODIFIED:20250410T152804Z
UID:42775-1732127400-1732132800@glpby.org
SUMMARY:Commission on Ministry
DESCRIPTION:Zoom meeting: Commission on Ministry\nEvery month on the Second Wednesday \nJoin Zoom Meeting\nhttps://us02web.zoom.us/j/751840652 \nMeeting ID: 751 840 652 \nDial in: (312) 626-6799 \n 
URL:https://glpby.org/event/committee-on-ministry-2022-03-09-2023-07-12-2024-01-11/2024-11-20/
CATEGORIES:Meetings
END:VEVENT
BEGIN:VEVENT
DTSTART;TZID=America/Chicago:20241121T110000
DTEND;TZID=America/Chicago:20241121T123000
DTSTAMP:20260424T205112
CREATED:20241107T173831Z
LAST-MODIFIED:20241107T173858Z
UID:44493-1732186800-1732192200@glpby.org
SUMMARY:New Worshiping Communities Commission
DESCRIPTION:
URL:https://glpby.org/event/new-worshipin-communities-commission/
LOCATION:Zoom
CATEGORIES:Meetings
END:VEVENT
BEGIN:VEVENT
DTSTART;TZID=America/Chicago:20241121T133000
DTEND;TZID=America/Chicago:20241121T143000
DTSTAMP:20260424T205112
CREATED:20210309T154319Z
LAST-MODIFIED:20241107T184101Z
UID:40305-1732195800-1732199400@glpby.org
SUMMARY:Vision Team
DESCRIPTION:Join Zoom Meeting\nhttps://us02web.zoom.us/j/82396157933 \nMeeting ID: 823 9615 7933 \nDial in: (312) 626-6799
URL:https://glpby.org/event/vision-team-2022-09-15-2024-11-21/
LOCATION:Presbytery Office\, 1001 Craig Road\, St Louis\, MO\, 63146\, United States
CATEGORIES:Meetings
END:VEVENT
BEGIN:VEVENT
DTSTART;VALUE=DATE:20241128
DTEND;VALUE=DATE:20241129
DTSTAMP:20260424T205112
CREATED:20210322T192155Z
LAST-MODIFIED:20250205T172131Z
UID:40320-1732752000-1732838399@glpby.org
SUMMARY:Thanksgiving Holiday - Presbytery Office Closed
DESCRIPTION:
URL:https://glpby.org/event/thanksgiving-holiday-presbytery-office-closed/2024-11-28/
END:VEVENT
BEGIN:VEVENT
DTSTART;VALUE=DATE:20241129
DTEND;VALUE=DATE:20241130
DTSTAMP:20260424T205112
CREATED:20210322T192155Z
LAST-MODIFIED:20240312T205803Z
UID:40321-1732838400-1732924799@glpby.org
SUMMARY:Thanksgiving Holiday - Presbytery Office Closed
DESCRIPTION:
URL:https://glpby.org/event/thanksgiving-holiday-presbytery-office-closed-2024-11-22/
END:VEVENT
END:VCALENDAR