BEGIN:VCALENDAR
VERSION:2.0
PRODID:-//Presbytery of Giddings-Lovejoy - ECPv6.15.18//NONSGML v1.0//EN
CALSCALE:GREGORIAN
METHOD:PUBLISH
X-WR-CALNAME:Presbytery of Giddings-Lovejoy
X-ORIGINAL-URL:https://glpby.org
X-WR-CALDESC:Events for Presbytery of Giddings-Lovejoy
REFRESH-INTERVAL;VALUE=DURATION:PT1H
X-Robots-Tag:noindex
X-PUBLISHED-TTL:PT1H
BEGIN:VTIMEZONE
TZID:America/Chicago
BEGIN:DAYLIGHT
TZOFFSETFROM:-0600
TZOFFSETTO:-0500
TZNAME:CDT
DTSTART:20220313T080000
END:DAYLIGHT
BEGIN:STANDARD
TZOFFSETFROM:-0500
TZOFFSETTO:-0600
TZNAME:CST
DTSTART:20221106T070000
END:STANDARD
BEGIN:DAYLIGHT
TZOFFSETFROM:-0600
TZOFFSETTO:-0500
TZNAME:CDT
DTSTART:20230312T080000
END:DAYLIGHT
BEGIN:STANDARD
TZOFFSETFROM:-0500
TZOFFSETTO:-0600
TZNAME:CST
DTSTART:20231105T070000
END:STANDARD
BEGIN:DAYLIGHT
TZOFFSETFROM:-0600
TZOFFSETTO:-0500
TZNAME:CDT
DTSTART:20240310T080000
END:DAYLIGHT
BEGIN:STANDARD
TZOFFSETFROM:-0500
TZOFFSETTO:-0600
TZNAME:CST
DTSTART:20241103T070000
END:STANDARD
END:VTIMEZONE
BEGIN:VEVENT
DTSTART;TZID=America/Chicago:20230506T090000
DTEND;TZID=America/Chicago:20230506T133000
DTSTAMP:20260424T215608
CREATED:20230417T201208Z
LAST-MODIFIED:20230417T201209Z
UID:41142-1683363600-1683379800@glpby.org
SUMMARY:Presbyterian Women Annual Meeting
DESCRIPTION:Registration is $15 & includes lunch\nSpeakers are Liz Kanerva\, Associate Presbytery Leader\,\nDr. Damayanthi Niles from Eden Seminary\,\n& the Rev. Marybeth McBryan\, Catholic priest.\nPlease register before May 1st by contacting:\nAline Russell at 618-531-6341 or alinegrussell@gmail.com
URL:https://glpby.org/event/presbyterian-women-annual-meeting/
LOCATION:Taiwanese Presbyterian Church of Greater St. Louis\, 542 Ries Rd.\, Ballwin\, MO\, 63021\, United States
END:VEVENT
BEGIN:VEVENT
DTSTART;TZID=America/Chicago:20230507T103000
DTEND;TZID=America/Chicago:20230507T123000
DTSTAMP:20260424T215608
CREATED:20230302T190020Z
LAST-MODIFIED:20230302T190021Z
UID:40932-1683455400-1683462600@glpby.org
SUMMARY:FUPC Collinsville Bicentennial
DESCRIPTION:
URL:https://glpby.org/event/fupc-collinsville-bicentennial/
LOCATION:First United Presbyterian Church – Collinsville\, 201 East Church Street\, Collinsville\,\, IL\, 62234\, United States
CATEGORIES:Church Events
ATTACH;FMTTYPE=image/png:https://glpby.org/wp-content/uploads/FUPC-Collinsville-BiCentennial.png
END:VEVENT
BEGIN:VEVENT
DTSTART;TZID=America/Chicago:20230508T160000
DTEND;TZID=America/Chicago:20230508T170000
DTSTAMP:20260424T215608
CREATED:20210302T175751Z
LAST-MODIFIED:20230502T160311Z
UID:37077-1683561600-1683565200@glpby.org
SUMMARY:Administration Team
DESCRIPTION:Zoom meeting:  Administration Team\nEvery month on the Second Tuesday \nJoin Zoom Meeting\nhttps://us02web.zoom.us/j/84405973030 \nIf using the app\, enter Meeting ID: 844 0597 3030 \nFor those calling in\, please Dial: (312) 626-6799 and enter the Meeting ID (above)
URL:https://glpby.org/event/administration-team-2023-05-09/
CATEGORIES:Meetings
END:VEVENT
BEGIN:VEVENT
DTSTART;TZID=America/Chicago:20230516T113000
DTEND;TZID=America/Chicago:20230516T123000
DTSTAMP:20260424T215608
CREATED:20230417T200413Z
LAST-MODIFIED:20230509T201025Z
UID:41140-1684236600-1684240200@glpby.org
SUMMARY:Family Church Pastor Cohort
DESCRIPTION:Family Church Cohort  – May 16th at 11:30 a.m.\nSave the Date! Join on Zoom: https://us02web.zoom.us/j/83475173600\nFamily-sized churches do all the ministry of program size churches\, but the contexts and cultures are distinct. Pastors are invited to gather for fellowship\, conversation\, and mutual support. The first gathering will be a brown bag lunch via Zoom. Information will be posted in early May. If you have any questions please contact Liz Rolf Kanerva\, Associate Presbytery Leader at ekanerva@glpby.org or 314-772-2395.
URL:https://glpby.org/event/family-church-pastor-cohort/
LOCATION:Zoom
CATEGORIES:Pastor Meetings
END:VEVENT
END:VCALENDAR