BEGIN:VCALENDAR
VERSION:2.0
PRODID:-//Presbytery of Giddings-Lovejoy - ECPv6.15.18//NONSGML v1.0//EN
CALSCALE:GREGORIAN
METHOD:PUBLISH
X-WR-CALNAME:Presbytery of Giddings-Lovejoy
X-ORIGINAL-URL:https://glpby.org
X-WR-CALDESC:Events for Presbytery of Giddings-Lovejoy
REFRESH-INTERVAL;VALUE=DURATION:PT1H
X-Robots-Tag:noindex
X-PUBLISHED-TTL:PT1H
BEGIN:VTIMEZONE
TZID:America/Chicago
BEGIN:DAYLIGHT
TZOFFSETFROM:-0600
TZOFFSETTO:-0500
TZNAME:CDT
DTSTART:20210314T080000
END:DAYLIGHT
BEGIN:STANDARD
TZOFFSETFROM:-0500
TZOFFSETTO:-0600
TZNAME:CST
DTSTART:20211107T070000
END:STANDARD
BEGIN:DAYLIGHT
TZOFFSETFROM:-0600
TZOFFSETTO:-0500
TZNAME:CDT
DTSTART:20220313T080000
END:DAYLIGHT
BEGIN:STANDARD
TZOFFSETFROM:-0500
TZOFFSETTO:-0600
TZNAME:CST
DTSTART:20221106T070000
END:STANDARD
BEGIN:DAYLIGHT
TZOFFSETFROM:-0600
TZOFFSETTO:-0500
TZNAME:CDT
DTSTART:20230312T080000
END:DAYLIGHT
BEGIN:STANDARD
TZOFFSETFROM:-0500
TZOFFSETTO:-0600
TZNAME:CST
DTSTART:20231105T070000
END:STANDARD
END:VTIMEZONE
BEGIN:VEVENT
DTSTART;TZID=America/Chicago:20220626T190000
DTEND;TZID=America/Chicago:20220626T200000
DTSTAMP:20260423T173939
CREATED:20220621T182556Z
LAST-MODIFIED:20220621T182932Z
UID:39351-1656270000-1656273600@glpby.org
SUMMARY:Light for the Darkness for Grounded Gardening and Generosity
DESCRIPTION:Join Light for the Darkness for Grounded Gardening and Generosity!\nSunday June 26\, 2022 at 7:00pm in South City\nEnjoy a time of grounding\, mindfulness\, and connection to the Creator while gardening. All are welcome!   Text Thirza for directions and further information 314-266-8007.  Light for the Darkness is a New Worshipping Community of the Presbyterian Church (U.S.A) led by Rev. Thirza Sayers.  L4TD facilitates support groups and other events for people with mental health variances (such as anxiety or depression) to provide a place for people to be heard and connect with others who understand.
URL:https://glpby.org/event/light-for-the-darkness-for-grounded-gardening-and-generosity/
CATEGORIES:New Worshiping Communities
ATTACH;FMTTYPE=image/jpeg:https://glpby.org/wp-content/uploads/light-for-darkness.jpg
END:VEVENT
BEGIN:VEVENT
DTSTART;VALUE=DATE:20220620
DTEND;VALUE=DATE:20220621
DTSTAMP:20260423T173939
CREATED:20220520T192938Z
LAST-MODIFIED:20230613T162255Z
UID:39178-1655683200-1655769599@glpby.org
SUMMARY:Presbytery Office Closed in Celebration of Juneteenth
DESCRIPTION:
URL:https://glpby.org/event/presbytery-office-closed-in-celebration-of-juneteenth/2022-06-20/
ATTACH;FMTTYPE=image/jpeg:https://glpby.org/wp-content/uploads/Office-Closed-Juneteenth.jpg
END:VEVENT
BEGIN:VEVENT
DTSTART;TZID=America/Chicago:20220619T100000
DTEND;TZID=America/Chicago:20220619T110000
DTSTAMP:20260423T173939
CREATED:20220614T192655Z
LAST-MODIFIED:20220614T193624Z
UID:39257-1655632800-1655636400@glpby.org
SUMMARY:PC(USA) Juneteenth Services
DESCRIPTION:PC(USA) Juneteenth Services\nSunday\, June 19\, 2022 at 11:00 a.m. (EDT)\nLivestreamed at the GA225 Homepage and Spirit of GA Facebook page.
URL:https://glpby.org/event/pcusa-juneteenth-services/
LOCATION:Facebook Live\, MO\, United States
ATTACH;FMTTYPE=image/jpeg:https://glpby.org/wp-content/uploads/Juneteenth-Celebration-for-PCUSA.jpg
END:VEVENT
BEGIN:VEVENT
DTSTART;TZID=America/Chicago:20220616T173000
DTEND;TZID=America/Chicago:20220616T200000
DTSTAMP:20260423T173939
CREATED:20220614T193153Z
LAST-MODIFIED:20220614T193153Z
UID:39260-1655400600-1655409600@glpby.org
SUMMARY:Juneteenth Keynote Lecture and Gospel Music Performance
DESCRIPTION:Juneteenth Keynote Lecture and Gospel Music Performance\nThursday\, June 16 | 5:30-8pm\nMissouri History Museum\n5700 Lindell Blvd.\, St. Louis\, MO 63112\n\nhttps://mohistory.org/events/juneteenth-keynote-and-gospel\nJoin Rev. Travis this Thursday night at the Missouri History Museum for a Juneteenth Keynote Lecture and Gospel Music Performance. Travis will be at the Museum at 5:30 at the Historian’s Corner to learn more about St. Louis’ civil rights history and hear about the Museum’s African American History Initiative. The lecture and Gospel music performance begins at 6:30 in the Lee Auditorium. Click the link above to see the full schedule.
URL:https://glpby.org/event/juneteenth-keynote-lecture-and-gospel-music-performance/
LOCATION:Missouri History Museum\, 5700 Lindell Blvd\, St. Louis\, Missouri\, 63112\, United States
ATTACH;FMTTYPE=image/png:https://glpby.org/wp-content/uploads/Mo-History-Museum-Juneteenth.png
END:VEVENT
BEGIN:VEVENT
DTSTART;VALUE=DATE:20220612
DTEND;VALUE=DATE:20220613
DTSTAMP:20260423T173939
CREATED:20220407T143030Z
LAST-MODIFIED:20220407T143059Z
UID:38973-1654992000-1655078399@glpby.org
SUMMARY:DRAWP Picnic
DESCRIPTION:
URL:https://glpby.org/event/drawp-picnic/
LOCATION:DR. H. PHILLIP VENABLE MEMORIAL PARK\, 10630 Country View Drive\, Creve Coeur\, 63141
END:VEVENT
BEGIN:VEVENT
DTSTART;TZID=America/Chicago:20220609T100000
DTEND;TZID=America/Chicago:20220609T110000
DTSTAMP:20260423T173939
CREATED:20210302T212240Z
LAST-MODIFIED:20220606T161416Z
UID:36379-1654768800-1654772400@glpby.org
SUMMARY:Public Witness
DESCRIPTION:Zoom meeting: Public Witness\nEvery month on the Third Thursday \nJoin Zoom Meeting\nhttps://us02web.zoom.us/j/83061373674 \nMeeting ID: 830 6137 3674 \nDial in:  (312) 626-6799 \n 
URL:https://glpby.org/event/public-witness-2022-06-16/
CATEGORIES:Meetings,Public Witness
END:VEVENT
BEGIN:VEVENT
DTSTART;TZID=America/Chicago:20220605T150000
DTEND;TZID=America/Chicago:20220605T170000
DTSTAMP:20260423T173939
CREATED:20220517T202427Z
LAST-MODIFIED:20220517T202427Z
UID:39151-1654441200-1654448400@glpby.org
SUMMARY:Rev. Mel Smith Installation
DESCRIPTION:Rev. Mel Smith\, Pastor\nTrinity Presbyterian-University City\nSun.\, June 5 | 3 pm\nDirections can be found here.
URL:https://glpby.org/event/rev-mel-smith-installation/
END:VEVENT
BEGIN:VEVENT
DTSTART;TZID=America/Chicago:20220529T143000
DTEND;TZID=America/Chicago:20220529T160000
DTSTAMP:20260423T173939
CREATED:20220517T202040Z
LAST-MODIFIED:20220517T202040Z
UID:39149-1653834600-1653840000@glpby.org
SUMMARY:Rev. Kerry Allison Installation Service
DESCRIPTION:Rev. Kerry Allison\, Designated Pastor\nFirst Presbyterian-Ferguson\nSun.\, May 29 | 2:30 pm\nDirections can be found here.
URL:https://glpby.org/event/rev-kerry-allison-installation-service/
LOCATION:First Presbyterian Church\, Ferguson\, 401 Darst Rd\, Ferguson\, 63135
END:VEVENT
BEGIN:VEVENT
DTSTART;TZID=America/Chicago:20220522T140000
DTEND;TZID=America/Chicago:20220522T150000
DTSTAMP:20260423T173939
CREATED:20220412T164312Z
LAST-MODIFIED:20220412T164312Z
UID:39013-1653228000-1653231600@glpby.org
SUMMARY:Rev. Zachary Lysdahl Installation Service
DESCRIPTION:Rev. Zachary Lysdahl will be installed at First United Presbyterian Church\, Collinsville\, Illinois \nFUPC is located at 201 E Church St\, Collinsville\, IL 62234. Directions Found Here.
URL:https://glpby.org/event/rev-zachary-lysdahl-installation-service/
END:VEVENT
BEGIN:VEVENT
DTSTART;TZID=America/Chicago:20220518T120000
DTEND;TZID=America/Chicago:20220518T133000
DTSTAMP:20260423T173939
CREATED:20210302T183156Z
LAST-MODIFIED:20220427T201702Z
UID:38665-1652875200-1652880600@glpby.org
SUMMARY:Commission on Ministry
DESCRIPTION:Zoom meeting: Commission on Ministry\nEvery month on the Second Wednesday \nJoin Zoom Meeting\nhttps://us02web.zoom.us/j/751840652 \nMeeting ID: 751 840 652 \nDial in: (312) 626-6799 \n 
URL:https://glpby.org/event/committee-on-ministry-2022-03-09-2022-05-11/
CATEGORIES:Meetings
END:VEVENT
BEGIN:VEVENT
DTSTART;VALUE=DATE:20220514
DTEND;VALUE=DATE:20220515
DTSTAMP:20260423T173939
CREATED:20220303T211456Z
LAST-MODIFIED:20220422T013052Z
UID:38858-1652486400-1652572799@glpby.org
SUMMARY:Stated Presbytery Gathering
DESCRIPTION:Stated Gathering of the Presbytery of Giddings-Lovejoy\nHybrid – Hosted by St. Mark Presbyterian Church and on Zoom\nSaturday\, May 14th\n9 a.m. Pre-Session on Voting – Faith – Politics\n10 a.m. Gathering Begins in Worship\n\n\nPre-Session Zoom Link https://us02web.zoom.us/j/83067655708\nGathering Zoom Link: https://us02web.zoom.us/j/86291884636
URL:https://glpby.org/event/stated-presbytery-gathering-4/
LOCATION:Hybrid Hosted by St. Mark Presbyterian\, 601 Claymont Dr.\, Ballwin\, Missouri\, 63011
END:VEVENT
BEGIN:VEVENT
DTSTART;TZID=America/Chicago:20220512T093000
DTEND;TZID=America/Chicago:20220512T110000
DTSTAMP:20260423T173939
CREATED:20210309T152345Z
LAST-MODIFIED:20220425T135926Z
UID:37805-1652347800-1652353200@glpby.org
SUMMARY:History Team
DESCRIPTION:
URL:https://glpby.org/event/history-team-2022-05-12/
LOCATION:Oak Hill Presbyterian Church\, 4111 Connecticut\, St Louis\, MO\, 63116
CATEGORIES:Meetings
END:VEVENT
BEGIN:VEVENT
DTSTART;TZID=America/Chicago:20220510T110000
DTEND;TZID=America/Chicago:20220510T120000
DTSTAMP:20260423T173939
CREATED:20210302T171446Z
LAST-MODIFIED:20220509T131500Z
UID:36130-1652180400-1652184000@glpby.org
SUMMARY:CANCELLED - New Worshiping Communities Commission
DESCRIPTION:Zoom meeting: NWCC\nEvery month on the Second Tuesday \nJoin Zoom Meeting\nhttps://us02web.zoom.us/j/81060149245 \nMeeting ID: 810 6014 9245 \nDial in: (312) 626-6799
URL:https://glpby.org/event/new-worshiping-communities-commission-2022-05-10/
LOCATION:Held Virtually On Zoom
CATEGORIES:Meetings
END:VEVENT
BEGIN:VEVENT
DTSTART;TZID=America/Chicago:20220430T100000
DTEND;TZID=America/Chicago:20220430T120000
DTSTAMP:20260423T173939
CREATED:20220228T205828Z
LAST-MODIFIED:20220412T154336Z
UID:38783-1651312800-1651320000@glpby.org
SUMMARY:Presbyterian Women Spring Gathering
DESCRIPTION:All Women of the Presbytery of Giddings-Lovejoy are welcomed and encouraged to attend the Spring Gathering. \nThis event will be held via Zoom and you can attend by clicking this link https://us02web.zoom.us/j/84056653929 \nIf you will be using the Zoom App\, please enter the Meeting ID 817 0035 4292 \nFind the Presbyterian Women Spring Gathering Flyer Here
URL:https://glpby.org/event/presbyterian-women-spring-gathering-2/
LOCATION:Zoom
ATTACH;FMTTYPE=image/jpeg:https://glpby.org/wp-content/uploads/PW-Online-4.12.22.jpg
END:VEVENT
BEGIN:VEVENT
DTSTART;TZID=America/Chicago:20220428T113000
DTEND;TZID=America/Chicago:20220428T133000
DTSTAMP:20260423T173939
CREATED:20220408T134655Z
LAST-MODIFIED:20220408T134655Z
UID:38981-1651145400-1651152600@glpby.org
SUMMARY:Honorably Retired Clergy Lunch
DESCRIPTION:Thursday\, April 28 11:30 a.m.\nWoodlawn Chapel Presbyterian Church\n16520 Clayton Road\, Wildwood\, MO 63011\nDirections Found Here\nPrepared Lunch Cost is $12 each (Please bring exact change)\nSpouses Welcome \nRSVP: Leigh Porter\, Presbytery Office by calling 314.772.2395 Or emailing: lporter@glpby.org\nNo Later Than April 25 (or you won’t have lunch!) We ‘re excited to see you soon!
URL:https://glpby.org/event/honorably-retired-clergy-lunch/
LOCATION:Woodlawn Chapel Presbyterian\, 16520 Clayton Road\, Wildwood\, MO\, United States
END:VEVENT
BEGIN:VEVENT
DTSTART;TZID=America/Chicago:20220424T143000
DTEND;TZID=America/Chicago:20220424T153000
DTSTAMP:20260423T173939
CREATED:20220412T163552Z
LAST-MODIFIED:20220412T164437Z
UID:39010-1650810600-1650814200@glpby.org
SUMMARY:Rev. Kalyn Stevwing Installation Service
DESCRIPTION:Rev. Kalyn Stevwing will be installed as the Associate Pastor of First Presbyterian\, Edwardsville\, Illinois on Sunday\, April 24.\nFPC is located at 3601 Ridge View Rd\, Edwardsville\, IL 62025 \n\n\n\n\nDirections Found Here
URL:https://glpby.org/event/rev-kalyn-stevwing-installation-service/
END:VEVENT
BEGIN:VEVENT
DTSTART;TZID=America/Chicago:20220419T110000
DTEND;TZID=America/Chicago:20220419T120000
DTSTAMP:20260423T173939
CREATED:20210302T171446Z
LAST-MODIFIED:20220304T162716Z
UID:36129-1650366000-1650369600@glpby.org
SUMMARY:New Worshiping Communities Commission
DESCRIPTION:Zoom meeting: NWCC\nEvery month on the Second Tuesday \nJoin Zoom Meeting\nhttps://us02web.zoom.us/j/81060149245 \nMeeting ID: 810 6014 9245 \nDial in: (312) 626-6799
URL:https://glpby.org/event/new-worshiping-communities-commission-2022-04-12/
LOCATION:Held Virtually On Zoom
CATEGORIES:Meetings
END:VEVENT
BEGIN:VEVENT
DTSTART;TZID=America/Chicago:20220419T100000
DTEND;TZID=America/Chicago:20220419T120000
DTSTAMP:20260423T173939
CREATED:20210110T153029Z
LAST-MODIFIED:20220412T135246Z
UID:35381-1650362400-1650369600@glpby.org
SUMMARY:Presbyterian Women Coordinating Council
DESCRIPTION:Zoom meeting:  PW Coordinating Council\nEvery month on the Third Friday \nJoin Zoom Meeting\nhttps://us02web.zoom.us/j/86939076534 \nMeeting ID: 869 3907 6534 \nDial in: (312) 626-6799 \n 
URL:https://glpby.org/event/pw-coordinating-team-meeting/
LOCATION:Presbytery Office\, 1001 Craig Road\, St Louis\, MO\, 63146\, United States
CATEGORIES:Meetings,Presbyterian Women
END:VEVENT
BEGIN:VEVENT
DTSTART;TZID=America/Chicago:20220414T140000
DTEND;TZID=America/Chicago:20220414T150000
DTSTAMP:20260423T173939
CREATED:20210302T175751Z
LAST-MODIFIED:20220407T182331Z
UID:36213-1649944800-1649948400@glpby.org
SUMMARY:Administration Team
DESCRIPTION:Zoom meeting:  Administration Team\nEvery month on the Second Tuesday \nJoin Zoom Meeting\nhttps://us02web.zoom.us/j/88133066356 \nMeeting ID: 881 3306 6356 \nDial in: (312) 626-6799
URL:https://glpby.org/event/administration-team-2022-04-12/
CATEGORIES:Meetings
END:VEVENT
BEGIN:VEVENT
DTSTART;TZID=America/Chicago:20220407T150000
DTEND;TZID=America/Chicago:20220407T163000
DTSTAMP:20260423T173939
CREATED:20210302T191101Z
LAST-MODIFIED:20220304T162023Z
UID:36315-1649343600-1649349000@glpby.org
SUMMARY:Gathering Planning Team
DESCRIPTION:Zoom meeting: Gathering Planning Team\nEvery month on the Second Thursday \nJoin Zoom Meeting\nhttps://us02web.zoom.us/j/87591437703 \nMeeting ID: 875 9143 7703 \nDial in:  (312) 626-6799 \n 
URL:https://glpby.org/event/gathering-planning-team-2022-04-14/
CATEGORIES:Meetings
END:VEVENT
BEGIN:VEVENT
DTSTART;TZID=America/Chicago:20220406T120000
DTEND;TZID=America/Chicago:20220406T133000
DTSTAMP:20260423T173939
CREATED:20210302T183156Z
LAST-MODIFIED:20220309T193103Z
UID:38664-1649246400-1649251800@glpby.org
SUMMARY:Commission on Ministry
DESCRIPTION:Zoom meeting: Commission on Ministry\nEvery month on the Second Wednesday \nJoin Zoom Meeting\nhttps://us02web.zoom.us/j/751840652 \nMeeting ID: 751 840 652 \nDial in: (312) 626-6799 \n 
URL:https://glpby.org/event/committee-on-ministry-2022-03-09-2022-04-13/
CATEGORIES:Meetings
END:VEVENT
BEGIN:VEVENT
DTSTART;TZID=America/Chicago:20220315T100000
DTEND;TZID=America/Chicago:20220315T113000
DTSTAMP:20260423T173939
CREATED:20220125T172023Z
LAST-MODIFIED:20220125T172023Z
UID:38546-1647338400-1647343800@glpby.org
SUMMARY:PW Midwest South Metro Cluster
DESCRIPTION:Join Zoom Meeting\nhttps://us02web.zoom.us/j/84331019797 \nMeeting ID: 843 3101 9797
URL:https://glpby.org/event/pw-midwest-south-metro-cluster/
LOCATION:Zoom
CATEGORIES:Presbyterian Women
END:VEVENT
BEGIN:VEVENT
DTSTART;TZID=America/Chicago:20220309T110000
DTEND;TZID=America/Chicago:20220309T120000
DTSTAMP:20260423T173939
CREATED:20210302T182610Z
LAST-MODIFIED:20231205T210602Z
UID:36239-1646823600-1646827200@glpby.org
SUMMARY:Transitional Pastor Zoom
DESCRIPTION:Zoom meeting: Interim/Transitional Pastors\nEvery month on the Second Wednesday \nJoin Zoom Meeting\nhttps://us02web.zoom.us/j/87886515558 \nMeeting ID: 878 8651 5558 \nDial in: (312) 626 6799
URL:https://glpby.org/event/transitional-pastor-zoom-2022-03-09/2022-03-09/
CATEGORIES:Pastor Meetings
END:VEVENT
BEGIN:VEVENT
DTSTART;TZID=America/Chicago:20220303T150000
DTEND;TZID=America/Chicago:20220303T163000
DTSTAMP:20260423T173939
CREATED:20210302T191101Z
LAST-MODIFIED:20220228T154357Z
UID:36314-1646319600-1646325000@glpby.org
SUMMARY:Gathering Planning Team
DESCRIPTION:Zoom meeting: Gathering Planning Team\nEvery month on the Second Thursday \nJoin Zoom Meeting\nhttps://us02web.zoom.us/j/87591437703 \nMeeting ID: 875 9143 7703 \nDial in:  (312) 626-6799 \n 
URL:https://glpby.org/event/gathering-planning-team-2022-03-10/
CATEGORIES:Meetings
END:VEVENT
BEGIN:VEVENT
DTSTART;TZID=America/Chicago:20220221T190000
DTEND;TZID=America/Chicago:20220221T210000
DTSTAMP:20260423T173939
CREATED:20210325T153144Z
LAST-MODIFIED:20220214T143027Z
UID:38440-1645470000-1645477200@glpby.org
SUMMARY:DRAWP Meeting
DESCRIPTION:DRAWP Meeting\nEvery month on the Second Monday \nJoin Zoom Meeting\nhttps://us02web.zoom.us/j/89295267531 \nMeeting ID: 892 9526 7531 \nDial in: (312) 626-6799
URL:https://glpby.org/event/drawp-moderators-meeting-2022-02-14/
END:VEVENT
BEGIN:VEVENT
DTSTART;TZID=America/Chicago:20220216T090000
DTEND;TZID=America/Chicago:20220216T120000
DTSTAMP:20260423T173939
CREATED:20220112T174719Z
LAST-MODIFIED:20220112T174719Z
UID:38510-1645002000-1645012800@glpby.org
SUMMARY:Boundary Training
DESCRIPTION:PASTOR REQUIRED BOUNDARY TRAINING\nFor All Pastors Currently Serving a Congregation\, on the Pulpit Supply List\, Chaplains\, and Educational Roles. \nWednesday\, February 16 | 9 am to 12 pm\nZoom opens at 8:45 am \nUnderstanding Healthy Boundaries:\nInsights for Ministry \nHandout Found Here \nThrough this training course\, clergy will learn the three basic types of interpersonal boundaries and the implications of each type for ministry. The presentation will encourage clergy to think about boundaries from a developmental\, systemic\, and existential frame of reference. Potential boundary conflicts for clergy will be identified as well as effective approaches for reducing and mediating common boundary conflicts in ministry. \nAbout the presenter: Christopher Grimes\, Psy.D. is a clinical psychologist and director of the Program for Psychology and Religion at St. Louis Behavioral Medicine Institute. Dr. Grimes and his staff specialize in the assessment and treatment of clergy and lay ministers\, evaluating clients\, and providing direction for the psychological and social aspects of formation\, treatment\, and future growth of religious professionals and candidates for ordination and religious vocations. Dr. Grimes is an ordained ruling elder in the Presbyterian Church-USA and he is a member of Dardenne Presbyterian Church\, Dardenne Prairie\, MO. \nIf you have already participated in boundary training within the last three years\, you must submit a copy of the certificate of completion to the Stated Clerk\, Rev. Joy Myers\, at jmyers@glpby.org or by mailing it to 1001 Craig Rd.\, Suite 170\, St. Louis\, MO 63146. If you have any questions\, please call her at 314.772.2395. We look forward to seeing you on February 16! \n\nRegister Here | Zoom Link Found Here\n\n 
URL:https://glpby.org/event/boundary-training-2/
LOCATION:Zoom
CATEGORIES:Pastor Events
ATTACH;FMTTYPE=image/jpeg:https://glpby.org/wp-content/uploads/Boundary-Training.jpg
END:VEVENT
BEGIN:VEVENT
DTSTART;VALUE=DATE:20220203
DTEND;VALUE=DATE:20220204
DTSTAMP:20260423T173939
CREATED:20220114T201404Z
LAST-MODIFIED:20220128T175434Z
UID:38523-1643846400-1643932799@glpby.org
SUMMARY:Stated Presbytery Gathering
DESCRIPTION:Stated Gathering of the Presbytery of Giddings-Lovejoy\nwill be held on Zoom\nThursday\, February 3rd at 9 a.m.\n(Zoom Fellowship Begins at 8:15 am)\nZoom Link: https://us02web.zoom.us/j/83149722666\n\nCall to Gather can be found here: https://myemail.constantcontact.com/Presbytery-Gathering-Binder-Now-Available.html?soid=1127483461243&aid=Co6OL-XacHE
URL:https://glpby.org/event/stated-presbytery-gathering-3/
LOCATION:Zoom
END:VEVENT
BEGIN:VEVENT
DTSTART;VALUE=DATE:20220117
DTEND;VALUE=DATE:20220118
DTSTAMP:20260423T173939
CREATED:20210322T191022Z
LAST-MODIFIED:20210322T191022Z
UID:36640-1642377600-1642463999@glpby.org
SUMMARY:MLK Day - Presbytery Office Closed
DESCRIPTION:
URL:https://glpby.org/event/mlk-day-presbytery-office-closed/2022-01-17/
END:VEVENT
BEGIN:VEVENT
DTSTART;TZID=America/Chicago:20220113T093000
DTEND;TZID=America/Chicago:20220113T110000
DTSTAMP:20260423T173939
CREATED:20210309T152345Z
LAST-MODIFIED:20220110T140848Z
UID:37801-1642066200-1642071600@glpby.org
SUMMARY:History Team
DESCRIPTION:Join Zoom Meeting\nhttps://us02web.zoom.us/j/82836380759 \nMeeting ID: 828 3638 0759 \nDial in:  (312) 626-6799 \n 
URL:https://glpby.org/event/history-team-2022-01-13/
LOCATION:Zoom
CATEGORIES:Meetings
END:VEVENT
BEGIN:VEVENT
DTSTART;TZID=America/Chicago:20220111T140000
DTEND;TZID=America/Chicago:20220111T150000
DTSTAMP:20260423T173939
CREATED:20220104T210009Z
LAST-MODIFIED:20220104T210009Z
UID:38478-1641909600-1641913200@glpby.org
SUMMARY:Hunger Action meeting
DESCRIPTION:Join Zoom Meeting\nhttps://us02web.zoom.us/j/84583207712 \nMeeting ID: 845 8320 7712 \n 
URL:https://glpby.org/event/hunger-action-meeting/
LOCATION:Zoom
END:VEVENT
END:VCALENDAR