BEGIN:VCALENDAR
VERSION:2.0
PRODID:-//Presbytery of Giddings-Lovejoy - ECPv6.15.18//NONSGML v1.0//EN
CALSCALE:GREGORIAN
METHOD:PUBLISH
X-WR-CALNAME:Presbytery of Giddings-Lovejoy
X-ORIGINAL-URL:https://glpby.org
X-WR-CALDESC:Events for Presbytery of Giddings-Lovejoy
REFRESH-INTERVAL;VALUE=DURATION:PT1H
X-Robots-Tag:noindex
X-PUBLISHED-TTL:PT1H
BEGIN:VTIMEZONE
TZID:America/Chicago
BEGIN:DAYLIGHT
TZOFFSETFROM:-0600
TZOFFSETTO:-0500
TZNAME:CDT
DTSTART:20210314T080000
END:DAYLIGHT
BEGIN:STANDARD
TZOFFSETFROM:-0500
TZOFFSETTO:-0600
TZNAME:CST
DTSTART:20211107T070000
END:STANDARD
BEGIN:DAYLIGHT
TZOFFSETFROM:-0600
TZOFFSETTO:-0500
TZNAME:CDT
DTSTART:20220313T080000
END:DAYLIGHT
BEGIN:STANDARD
TZOFFSETFROM:-0500
TZOFFSETTO:-0600
TZNAME:CST
DTSTART:20221106T070000
END:STANDARD
BEGIN:DAYLIGHT
TZOFFSETFROM:-0600
TZOFFSETTO:-0500
TZNAME:CDT
DTSTART:20230312T080000
END:DAYLIGHT
BEGIN:STANDARD
TZOFFSETFROM:-0500
TZOFFSETTO:-0600
TZNAME:CST
DTSTART:20231105T070000
END:STANDARD
END:VTIMEZONE
BEGIN:VEVENT
DTSTART;TZID=America/Chicago:20221115T120000
DTEND;TZID=America/Chicago:20221116T160000
DTSTAMP:20260420T024147
CREATED:20221018T175653Z
LAST-MODIFIED:20221018T175720Z
UID:40193-1668513600-1668614400@glpby.org
SUMMARY:In Thanksgiving of Our Illinois Congregations
DESCRIPTION:Presbytery Staff will travel to Edwardsville\, Illinois \nTuesday\, November 15 & Wednesday\, November 16 \nDetails coming soon!
URL:https://glpby.org/event/in-thanksgiving-of-our-illinois-congregations/
ATTACH;FMTTYPE=image/jpeg:https://glpby.org/wp-content/uploads/In-Thanksgiving-11.15.22.jpg
END:VEVENT
BEGIN:VEVENT
DTSTART;TZID=America/Chicago:20221113T103000
DTEND;TZID=America/Chicago:20221113T130000
DTSTAMP:20260420T024147
CREATED:20220927T171303Z
LAST-MODIFIED:20220927T171518Z
UID:39926-1668335400-1668344400@glpby.org
SUMMARY:FPC Perryville Celebrates 125 Years
DESCRIPTION:Worship Service at 10:30 am\nOpen House from 11:30 am to 1 pm\nDirections can be found by clicking here
URL:https://glpby.org/event/fpc-perryville-celebrates-125-years/
LOCATION:First Presbyterian Church\, Perryville\, Missouri\, 6 E Sainte Marie St\, Perryville\, Missouri\, 63775
CATEGORIES:Church Events
ATTACH;FMTTYPE=image/jpeg:https://glpby.org/wp-content/uploads/FPC-Perryville-CelebrationSunday.jpg
END:VEVENT
BEGIN:VEVENT
DTSTART;TZID=America/Chicago:20221109T100000
DTEND;TZID=America/Chicago:20221109T150000
DTSTAMP:20260420T024147
CREATED:20210302T183156Z
LAST-MODIFIED:20220926T143603Z
UID:38671-1667988000-1668006000@glpby.org
SUMMARY:Commission on Ministry
DESCRIPTION:Zoom meeting: Commission on Ministry\nEvery month on the Second Wednesday \nJoin Zoom Meeting\nhttps://us02web.zoom.us/j/751840652 \nMeeting ID: 751 840 652 \nDial in: (312) 626-6799 \n 
URL:https://glpby.org/event/committee-on-ministry-2022-03-09-2022-11-09/
LOCATION:First Presbyterian Church\, Kirkwood\, 100 E Adams Ave\, Saint Louis\, MO\, 63122\, United States
CATEGORIES:Meetings
END:VEVENT
BEGIN:VEVENT
DTSTART;VALUE=DATE:20221105
DTEND;VALUE=DATE:20221106
DTSTAMP:20260420T024147
CREATED:20220601T162312Z
LAST-MODIFIED:20221031T145910Z
UID:39213-1667606400-1667692799@glpby.org
SUMMARY:Stated Presbytery Gathering
DESCRIPTION:Stated Gathering of the Presbytery of Giddings-Lovejoy – Hybrid\nHosted by the Washington Presbyterian Church\, located at 4834 S Point Rd\, Washington\, MO 63090\n\n\nIf attending on Zoom the link is: https://us02web.zoom.us/j/86929892264\nIf using the Zoom app\, the Meeting ID is: 869 2989 2264
URL:https://glpby.org/event/stated-presbytery-gathering-6/
LOCATION:The Presbyterian Church of Washington\, 4834 S Point Rd\, Washington\, MO\, 63090\, United States
CATEGORIES:Events,Gatherings
ORGANIZER;CN="Presbytery of Giddings-Lovejoy":MAILTO:communication@glpby.org
END:VEVENT
BEGIN:VEVENT
DTSTART;TZID=America/Chicago:20221027T133000
DTEND;TZID=America/Chicago:20221027T143000
DTSTAMP:20260420T024147
CREATED:20210309T154319Z
LAST-MODIFIED:20220920T142949Z
UID:39532-1666877400-1666881000@glpby.org
SUMMARY:Vision Team
DESCRIPTION:Topic: Vision Team\nEvery month on the Third Thursday \nJoin Zoom Meeting\nhttps://us02web.zoom.us/j/82396157933 \nMeeting ID: 823 9615 7933 \nDial in: (312) 626-6799 \n 
URL:https://glpby.org/event/vision-team-2022-09-15-2022-10-20/
CATEGORIES:Meetings
END:VEVENT
BEGIN:VEVENT
DTSTART;TZID=America/Chicago:20221026T120000
DTEND;TZID=America/Chicago:20221026T133000
DTSTAMP:20260420T024147
CREATED:20210302T183156Z
LAST-MODIFIED:20220927T152040Z
UID:38670-1666785600-1666791000@glpby.org
SUMMARY:Commission on Ministry
DESCRIPTION:Zoom meeting: Commission on Ministry\nEvery month on the Second Wednesday \nJoin Zoom Meeting\nhttps://us02web.zoom.us/j/751840652 \nMeeting ID: 751 840 652 \nDial in: (312) 626-6799 \n 
URL:https://glpby.org/event/committee-on-ministry-2022-03-09-2022-10-12/
CATEGORIES:Meetings
END:VEVENT
BEGIN:VEVENT
DTSTART;TZID=America/Chicago:20221020T140000
DTEND;TZID=America/Chicago:20221020T153000
DTSTAMP:20260420T024147
CREATED:20220926T143904Z
LAST-MODIFIED:20220926T143904Z
UID:39924-1666274400-1666279800@glpby.org
SUMMARY:Commission on Preparation for Ministry
DESCRIPTION:The moderator will send zoom link.
URL:https://glpby.org/event/commission-on-preparation-for-ministry/
LOCATION:Zoom
END:VEVENT
BEGIN:VEVENT
DTSTART;VALUE=DATE:20221012
DTEND;VALUE=DATE:20221013
DTSTAMP:20260420T024147
CREATED:20220913T205540Z
LAST-MODIFIED:20220913T212653Z
UID:39825-1665532800-1665619199@glpby.org
SUMMARY:Annual Presbytery History Tour
DESCRIPTION:History Tour of the Churchill Museum at Westminster College\, in Fulton\, Missouri. \nFlyer Found Here \nReservations required – Contact Jan Stanford at 314-638-0195\nChecks payable to Presbytery of Giddings Lovejoy.\n(Please note History Tour in the memo line.)\nMail to Jan Stanford\, 9511 Howerton Drive\, St Louis MO 63123. \nWatch the promotional video here.
URL:https://glpby.org/event/annual-presbytery-history-tour/
CATEGORIES:Events
ATTACH;FMTTYPE=image/jpeg:https://glpby.org/wp-content/uploads/Churchill-Museum.jpg
END:VEVENT
BEGIN:VEVENT
DTSTART;TZID=America/Chicago:20221011T130000
DTEND;TZID=America/Chicago:20221011T140000
DTSTAMP:20260420T024147
CREATED:20210302T175751Z
LAST-MODIFIED:20221004T194143Z
UID:36219-1665493200-1665496800@glpby.org
SUMMARY:Administration Team
DESCRIPTION:Zoom meeting:  Administration Team\nEvery month on the Second Tuesday \nJoin Zoom Meeting\nhttps://us02web.zoom.us/j/84405973030 \nIf using the app\, enter Meeting ID: 844 0597 3030 \nFor those calling in\, please Dial: (312) 626-6799 and enter the Meeting ID (above)
URL:https://glpby.org/event/administration-team-2022-10-11/
CATEGORIES:Meetings
END:VEVENT
BEGIN:VEVENT
DTSTART;TZID=America/Chicago:20221005T093000
DTEND;TZID=America/Chicago:20221005T110000
DTSTAMP:20260420T024147
CREATED:20210309T152345Z
LAST-MODIFIED:20220919T193429Z
UID:37810-1664962200-1664967600@glpby.org
SUMMARY:History Team
DESCRIPTION:
URL:https://glpby.org/event/history-team-2022-10-13/
LOCATION:Southminster Presbyterian Church\, 10126 E Watson Rd\, St Louis\, MO\, 63126
CATEGORIES:Meetings
END:VEVENT
BEGIN:VEVENT
DTSTART;TZID=America/Chicago:20220929T183000
DTEND;TZID=America/Chicago:20220929T183000
DTSTAMP:20260420T024147
CREATED:20220721T123547Z
LAST-MODIFIED:20220831T171338Z
UID:39461-1664476200-1664476200@glpby.org
SUMMARY:September Education Event - Personnel\, Session HR Team
DESCRIPTION:Personnel or Session HR Teams \nAlmost all congregations have some kind of “employment” relationship with someone. Larger congregations may have multiple full- and part-time ordained and non-ordained staff while smaller congregations may only have part-time paid custodial staff and a series of pulpit supplies\, but there are always aspects of employment that need to be managed to ensure that the congregation is in compliance with both Presbyterian polity and applicable law. Whether you are on a Personnel Committee or a member of a Session\, that oversees the work of church employees\, we encourage you to learn best practices\, communication skills\, and yearly planning for all church staff. Presbytery Leader\, Rev. Ryan Landino welcomes you to join him in this education hour. \nTo join click this link\nhttps://us02web.zoom.us/j/85917189356\nIf using the Zoom App\, enter this Meeting ID: 859 1718 9356
URL:https://glpby.org/event/september-education-event-personnel-session-hr-team/
LOCATION:Zoom
CATEGORIES:Education
END:VEVENT
BEGIN:VEVENT
DTSTART;TZID=America/Chicago:20220922T183000
DTEND;TZID=America/Chicago:20220922T183000
DTSTAMP:20260420T024147
CREATED:20220721T123453Z
LAST-MODIFIED:20220831T163749Z
UID:39459-1663871400-1663871400@glpby.org
SUMMARY:September Event - Deacon\, Compassionate Ministry\, Stephen Ministry
DESCRIPTION:Deacon\, Compassionate Ministry\, Stephen Ministry \nRev. Emily Rosencrans\, Director\, Network Spiritual Care Services for St. Luke’s Hospital\, and Rev. Renita Heinzl\, Senior Chaplain and ACPE Educator for St. Luke’s Hospital will share thoughts and wisdom gained from years of ministering to patients and families in a clinical setting\, as well as from many years of church ministry. The discussion will include navigating issues of privacy\, confidentiality\, and boundaries\, as well as ways to enter into conversation and listen deeply\, bearing witness to one another’s lived experiences. The goal is to equip you for your work of bearing one another’s burdens and bearing witness to each individual story and journey.  This training session will help prepare you for the sacred work to which you have been called. \nTo join click this link\nhttps://us02web.zoom.us/j/84897080415\nIf using the Zoom App\, enter this Meeting ID: 848 9708 0415
URL:https://glpby.org/event/september-event-deacon-compassionate-ministry-stephen-ministry/
LOCATION:Zoom
CATEGORIES:Education
END:VEVENT
BEGIN:VEVENT
DTSTART;TZID=America/Chicago:20220920T183000
DTEND;TZID=America/Chicago:20220920T183000
DTSTAMP:20260420T024147
CREATED:20220906T165210Z
LAST-MODIFIED:20220906T165210Z
UID:39780-1663698600-1663698600@glpby.org
SUMMARY:Global Partnerships Virtual Book Discussion
DESCRIPTION:Hunter Farrell & S. Balajieblang Khyllep will discuss their new book “Freeing Congregational Mission: A Practical Vision of Companionship\, Humility\, and Co-Development.”\nAll Christians are interested in new trends in global mission and social justice are invited to attend. \nJoin via zoom: https://us02web.zoom.us/j/84016358336?pwd=TWZmZS9RUFB1b2NIS29RRlpBQm1mQT09 \nFor more information about the book go to:\nFreeing Congregational Mission – A Practical Vision for Companionship\, Cultural Humility and Co-Development\nOn this link you can order the book with a 30% discount.   Use MISSION at checkout. \nFor more information about this virtual event\, email: strothmannmark@gmail.com or call 314-779-6940. \nThis event is being presented by the Global Partnership Ministry and the Joining Hands Peruvian Partnership of the Presbytery of Giddings-Lovejoy.
URL:https://glpby.org/event/global-partnerships-virtual-book-discussion/
LOCATION:Zoom
END:VEVENT
BEGIN:VEVENT
DTSTART;TZID=America/Chicago:20220915T183000
DTEND;TZID=America/Chicago:20220915T183000
DTSTAMP:20260420T024147
CREATED:20220721T123340Z
LAST-MODIFIED:20220831T163638Z
UID:39457-1663266600-1663266600@glpby.org
SUMMARY:September Education - Treasurers
DESCRIPTION:Treasurers \nThe Treasurer usually is the single person in the church who oversees all the financial workings in the church. You might not have to do all the work if you have a team around you\, but you will be the person the Session looks to for all the financial and legal issues related to operating a church corporation. As a church treasurer or financial officer\, organizing and reporting can be challenging\, particularly during a pandemic and tough global market worries. We can help\, with guidance\, options\, and resources. Rev. Eric Heinekamp\, of Blackhawk Presbytery\, will lead this session. \nTo join click this link\nhttps://us02web.zoom.us/j/89190476622 \nIf using the Zoom App enter the Meeting ID: 891 9047 6622
URL:https://glpby.org/event/september-education-treasurers/
LOCATION:Zoom
CATEGORIES:Education
END:VEVENT
BEGIN:VEVENT
DTSTART;TZID=America/Chicago:20220915T133000
DTEND;TZID=America/Chicago:20220915T143000
DTSTAMP:20260420T024147
CREATED:20210309T154319Z
LAST-MODIFIED:20250508T164237Z
UID:36786-1663248600-1663252200@glpby.org
SUMMARY:Vision Team
DESCRIPTION:Topic: Vision Team\nEvery month on the Third Thursday \nJoin Zoom Meeting\nhttps://us02web.zoom.us/j/82396157933 \nMeeting ID: 823 9615 7933 \nDial in: (312) 626-6799 \n 
URL:https://glpby.org/event/vision-team-2022-09-15/2022-09-15/
CATEGORIES:Meetings
END:VEVENT
BEGIN:VEVENT
DTSTART;TZID=America/Chicago:20220913T140000
DTEND;TZID=America/Chicago:20220913T150000
DTSTAMP:20260420T024147
CREATED:20220913T182305Z
LAST-MODIFIED:20220929T172028Z
UID:39816-1663077600-1663081200@glpby.org
SUMMARY:Dynamic Leader Team
DESCRIPTION:The Dynamic Leader Team meets virtually on Zoom. This meeting takes place on the second Tuesday\, every other month. at 2 pm. \nJoin Zoom Meeting by clicking this link:\nhttps://us02web.zoom.us/j/88211636535?pwd=cHlXMmVqNUdEOFBQdCtMeVZOdmRIQT09\nIf using the app\, enter the Meeting ID: 882 1163 6535\nPC: 700930
URL:https://glpby.org/event/dynamic-leader-team-meeting/2022-09-13/
LOCATION:Zoom
CATEGORIES:Meetings
END:VEVENT
BEGIN:VEVENT
DTSTART;TZID=America/Chicago:20220908T183000
DTEND;TZID=America/Chicago:20220908T183000
DTSTAMP:20260420T024147
CREATED:20220721T123253Z
LAST-MODIFIED:20220831T163527Z
UID:39455-1662661800-1662661800@glpby.org
SUMMARY:September Education - Ruling Elders
DESCRIPTION:Ruling Elders \nWhat is ordered ministry and why is it important to the Presbyterian Church? What does one need to know to be an effective leader in the Presbyterian church? Rev. Dr. Susan Andrews\, Rev. Ed Zumwinkel\, and Rev. Daniel Ervin will explore and answer these and other questions about ordained leadership in the Presbyterian tradition. If you are newly called\, exploring accepting a call from a Nominating Committee\, or simply want a refresher\, we are here to help! Please join us in exploring the Ruling Elder service. \nTo join click the link \nhttps://us02web.zoom.us/j/87821797342 \nor if using the Zoom App the Meeting ID: 878 2179 7342
URL:https://glpby.org/event/september-education-ruling-elders/
LOCATION:Zoom
CATEGORIES:Education
END:VEVENT
BEGIN:VEVENT
DTSTART;TZID=America/Chicago:20220901T183000
DTEND;TZID=America/Chicago:20220901T183000
DTSTAMP:20260420T024147
CREATED:20220721T123139Z
LAST-MODIFIED:20220831T024511Z
UID:39453-1662057000-1662057000@glpby.org
SUMMARY:September Education - Clerks of Session
DESCRIPTION:Clerks of Session \nAn effective clerk of a governing body understands that order expresses the principle that we must live our lives together in accord with our faith and as a witness to the promises and demands of scripture. A Clerk of Session respects the Constitution of the Presbyterian Church (USA) – the Book of Confessions and the Book of Order – as our covenant with one another to be faithful witnesses. \nRev. Joy Myers welcomes you to this session\, if you are a new Clerk of Session or a long-term serving Clerk\, to learn what is new\, what to expect in the year ahead\, and the resources available to support your call to serve. \nJoin us by clicking this link https://us02web.zoom.us/j/85061118105  \nor using your Zoom App and entering the Meeting ID: 850 6111 8105
URL:https://glpby.org/event/september-education-clerks-of-session/
LOCATION:Zoom
CATEGORIES:Education
END:VEVENT
BEGIN:VEVENT
DTSTART;TZID=America/Chicago:20220825T150000
DTEND;TZID=America/Chicago:20220825T160000
DTSTAMP:20260420T024147
CREATED:20220825T134347Z
LAST-MODIFIED:20220825T134347Z
UID:39653-1661439600-1661443200@glpby.org
SUMMARY:Gathering Pre-Session History Stewardship
DESCRIPTION:Presbytery History Workgroup\nHistory Stewardship\nIn addition to maintaining records of the early history of area Presbyterians as found in a published book\, and the history of the Presbytery of Giddings-Lovejoy\, the History Work Group also maintains a file on current and past churches in the Presbytery. Significant anniversaries are celebrated with a framed proclamation\, and flowers or an outdoor planting. When a church closes\, we meet with congregational representatives and advise what materials should be sent to the Presbyterian Historical Society or to local historical societies and appraise valuable artifacts. To join via Zoom: https://us02web.zoom.us/j/84718415257\nIf using the app the meeting ID is: 863 6244 1766
URL:https://glpby.org/event/gathering-pre-session-history-stewardship/
END:VEVENT
BEGIN:VEVENT
DTSTART;TZID=America/Chicago:20220825T150000
DTEND;TZID=America/Chicago:20220825T160000
DTSTAMP:20260420T024147
CREATED:20220825T134227Z
LAST-MODIFIED:20220825T134227Z
UID:39651-1661439600-1661443200@glpby.org
SUMMARY:Gathering Pre-Session Climate Crisis and Faith Response
DESCRIPTION:Earth Care Workgroup\nClimate Crisis and Faith Response\nEvidence of the current climate crisis before us becomes more convincing as the days go on. The crisis is no longer something coming. It is very much with us now! It is mostly human-caused and therefore can be resolved by all of us together. The session will review the crisis but spend most of the time on what we as people of faith can do to address the crisis in our personal lives\, our work lives\, our community lives\, and most importantly\, in our congregations.\nThe Reverends Carleton and Ellie Stock from the Earth Care Working Group of the Public Witness Team of presbytery will facilitate the 45-minute hybrid discussion/workshop at 3 pm. To join via Zoom:  https://us02web.zoom.us/j/86362441766\nIf using the app the meeting ID is: 8636 2441 766
URL:https://glpby.org/event/gathering-pre-session-climate-crisis-and-faith-response/
END:VEVENT
BEGIN:VEVENT
DTSTART;VALUE=DATE:20220825
DTEND;VALUE=DATE:20220826
DTSTAMP:20260420T024147
CREATED:20220601T161851Z
LAST-MODIFIED:20220825T135732Z
UID:39209-1661385600-1661471999@glpby.org
SUMMARY:Stated Presbytery Gathering
DESCRIPTION:Stated Presbytery Gathering – Thursday\, August 25  \n3 pm Pre-Sessions | 4 pm Worship \nHybrid – Hosted by New Hope Presbyterian Church \n1580 Kisker Rd\, St Peters\, MO 63304 \nDirections Found Here \nZoom Participants Link: https://us02web.zoom.us/j/87445838085 \nIf using the app the meeting ID is 874 4583 8085
URL:https://glpby.org/event/stated-presbytery-gathering-5/
LOCATION:Hybrid Hosted by New Hope Presbyterian Church\, 1580 Kisker Road\, St Charles\, Missouri\, 63304
CATEGORIES:Events,Gatherings
ORGANIZER;CN="Presbytery of Giddings-Lovejoy":MAILTO:communication@glpby.org
END:VEVENT
BEGIN:VEVENT
DTSTART;TZID=America/Chicago:20220818T090000
DTEND;TZID=America/Chicago:20220818T100000
DTSTAMP:20260420T024147
CREATED:20210302T212240Z
LAST-MODIFIED:20220727T152659Z
UID:36381-1660813200-1660816800@glpby.org
SUMMARY:Public Witness
DESCRIPTION:Zoom meeting: Public Witness\nEvery month on the Third Thursday \nJoin Zoom Meeting\nhttps://us02web.zoom.us/j/83061373674 \nMeeting ID: 830 6137 3674 \nDial in:  (312) 626-6799 \n 
URL:https://glpby.org/event/public-witness-2022-08-18/
CATEGORIES:Meetings,Public Witness
END:VEVENT
BEGIN:VEVENT
DTSTART;TZID=America/Chicago:20220802T120000
DTEND;TZID=America/Chicago:20220802T130000
DTSTAMP:20260420T024147
CREATED:20210301T235829Z
LAST-MODIFIED:20220616T142014Z
UID:38762-1659441600-1659445200@glpby.org
SUMMARY:All Pastor Zoom
DESCRIPTION:Please join us monthly\, on the first Tuesday\, at 12pm. \nZoom link: https://us02web.zoom.us/j/86480139436 \n 
URL:https://glpby.org/event/all-pastor-zoom-2022-07-05/
LOCATION:Zoom
END:VEVENT
BEGIN:VEVENT
DTSTART;VALUE=DATE:20220704
DTEND;VALUE=DATE:20220705
DTSTAMP:20260420T024147
CREATED:20210322T191847Z
LAST-MODIFIED:20210322T191847Z
UID:36651-1656892800-1656979199@glpby.org
SUMMARY:Independence Day - Presbytery Office Closed
DESCRIPTION:
URL:https://glpby.org/event/independence-day-presbytery-office-closed-2/2022-07-04/
END:VEVENT
BEGIN:VEVENT
DTSTART;TZID=America/Chicago:20220626T190000
DTEND;TZID=America/Chicago:20220626T200000
DTSTAMP:20260420T024147
CREATED:20220621T182556Z
LAST-MODIFIED:20220621T182932Z
UID:39351-1656270000-1656273600@glpby.org
SUMMARY:Light for the Darkness for Grounded Gardening and Generosity
DESCRIPTION:Join Light for the Darkness for Grounded Gardening and Generosity!\nSunday June 26\, 2022 at 7:00pm in South City\nEnjoy a time of grounding\, mindfulness\, and connection to the Creator while gardening. All are welcome!   Text Thirza for directions and further information 314-266-8007.  Light for the Darkness is a New Worshipping Community of the Presbyterian Church (U.S.A) led by Rev. Thirza Sayers.  L4TD facilitates support groups and other events for people with mental health variances (such as anxiety or depression) to provide a place for people to be heard and connect with others who understand.
URL:https://glpby.org/event/light-for-the-darkness-for-grounded-gardening-and-generosity/
CATEGORIES:New Worshiping Communities
ATTACH;FMTTYPE=image/jpeg:https://glpby.org/wp-content/uploads/light-for-darkness.jpg
END:VEVENT
BEGIN:VEVENT
DTSTART;VALUE=DATE:20220620
DTEND;VALUE=DATE:20220621
DTSTAMP:20260420T024147
CREATED:20220520T192938Z
LAST-MODIFIED:20230613T162255Z
UID:39178-1655683200-1655769599@glpby.org
SUMMARY:Presbytery Office Closed in Celebration of Juneteenth
DESCRIPTION:
URL:https://glpby.org/event/presbytery-office-closed-in-celebration-of-juneteenth/2022-06-20/
ATTACH;FMTTYPE=image/jpeg:https://glpby.org/wp-content/uploads/Office-Closed-Juneteenth.jpg
END:VEVENT
BEGIN:VEVENT
DTSTART;TZID=America/Chicago:20220619T100000
DTEND;TZID=America/Chicago:20220619T110000
DTSTAMP:20260420T024147
CREATED:20220614T192655Z
LAST-MODIFIED:20220614T193624Z
UID:39257-1655632800-1655636400@glpby.org
SUMMARY:PC(USA) Juneteenth Services
DESCRIPTION:PC(USA) Juneteenth Services\nSunday\, June 19\, 2022 at 11:00 a.m. (EDT)\nLivestreamed at the GA225 Homepage and Spirit of GA Facebook page.
URL:https://glpby.org/event/pcusa-juneteenth-services/
LOCATION:Facebook Live\, MO\, United States
ATTACH;FMTTYPE=image/jpeg:https://glpby.org/wp-content/uploads/Juneteenth-Celebration-for-PCUSA.jpg
END:VEVENT
BEGIN:VEVENT
DTSTART;TZID=America/Chicago:20220616T173000
DTEND;TZID=America/Chicago:20220616T200000
DTSTAMP:20260420T024147
CREATED:20220614T193153Z
LAST-MODIFIED:20220614T193153Z
UID:39260-1655400600-1655409600@glpby.org
SUMMARY:Juneteenth Keynote Lecture and Gospel Music Performance
DESCRIPTION:Juneteenth Keynote Lecture and Gospel Music Performance\nThursday\, June 16 | 5:30-8pm\nMissouri History Museum\n5700 Lindell Blvd.\, St. Louis\, MO 63112\n\nhttps://mohistory.org/events/juneteenth-keynote-and-gospel\nJoin Rev. Travis this Thursday night at the Missouri History Museum for a Juneteenth Keynote Lecture and Gospel Music Performance. Travis will be at the Museum at 5:30 at the Historian’s Corner to learn more about St. Louis’ civil rights history and hear about the Museum’s African American History Initiative. The lecture and Gospel music performance begins at 6:30 in the Lee Auditorium. Click the link above to see the full schedule.
URL:https://glpby.org/event/juneteenth-keynote-lecture-and-gospel-music-performance/
LOCATION:Missouri History Museum\, 5700 Lindell Blvd\, St. Louis\, Missouri\, 63112\, United States
ATTACH;FMTTYPE=image/png:https://glpby.org/wp-content/uploads/Mo-History-Museum-Juneteenth.png
END:VEVENT
BEGIN:VEVENT
DTSTART;VALUE=DATE:20220612
DTEND;VALUE=DATE:20220613
DTSTAMP:20260420T024147
CREATED:20220407T143030Z
LAST-MODIFIED:20220407T143059Z
UID:38973-1654992000-1655078399@glpby.org
SUMMARY:DRAWP Picnic
DESCRIPTION:
URL:https://glpby.org/event/drawp-picnic/
LOCATION:DR. H. PHILLIP VENABLE MEMORIAL PARK\, 10630 Country View Drive\, Creve Coeur\, 63141
END:VEVENT
BEGIN:VEVENT
DTSTART;TZID=America/Chicago:20220609T100000
DTEND;TZID=America/Chicago:20220609T110000
DTSTAMP:20260420T024147
CREATED:20210302T212240Z
LAST-MODIFIED:20220606T161416Z
UID:36379-1654768800-1654772400@glpby.org
SUMMARY:Public Witness
DESCRIPTION:Zoom meeting: Public Witness\nEvery month on the Third Thursday \nJoin Zoom Meeting\nhttps://us02web.zoom.us/j/83061373674 \nMeeting ID: 830 6137 3674 \nDial in:  (312) 626-6799 \n 
URL:https://glpby.org/event/public-witness-2022-06-16/
CATEGORIES:Meetings,Public Witness
END:VEVENT
END:VCALENDAR