BEGIN:VCALENDAR
VERSION:2.0
PRODID:-//Presbytery of Giddings-Lovejoy - ECPv6.15.18//NONSGML v1.0//EN
CALSCALE:GREGORIAN
METHOD:PUBLISH
X-ORIGINAL-URL:https://glpby.org
X-WR-CALDESC:Events for Presbytery of Giddings-Lovejoy
REFRESH-INTERVAL;VALUE=DURATION:PT1H
X-Robots-Tag:noindex
X-PUBLISHED-TTL:PT1H
BEGIN:VTIMEZONE
TZID:America/Chicago
BEGIN:DAYLIGHT
TZOFFSETFROM:-0600
TZOFFSETTO:-0500
TZNAME:CDT
DTSTART:20260308T080000
END:DAYLIGHT
BEGIN:STANDARD
TZOFFSETFROM:-0500
TZOFFSETTO:-0600
TZNAME:CST
DTSTART:20261101T070000
END:STANDARD
BEGIN:DAYLIGHT
TZOFFSETFROM:-0600
TZOFFSETTO:-0500
TZNAME:CDT
DTSTART:20270314T080000
END:DAYLIGHT
BEGIN:STANDARD
TZOFFSETFROM:-0500
TZOFFSETTO:-0600
TZNAME:CST
DTSTART:20271107T070000
END:STANDARD
BEGIN:DAYLIGHT
TZOFFSETFROM:-0600
TZOFFSETTO:-0500
TZNAME:CDT
DTSTART:20280312T080000
END:DAYLIGHT
BEGIN:STANDARD
TZOFFSETFROM:-0500
TZOFFSETTO:-0600
TZNAME:CST
DTSTART:20281105T070000
END:STANDARD
BEGIN:DAYLIGHT
TZOFFSETFROM:-0600
TZOFFSETTO:-0500
TZNAME:CDT
DTSTART:20290311T080000
END:DAYLIGHT
BEGIN:STANDARD
TZOFFSETFROM:-0500
TZOFFSETTO:-0600
TZNAME:CST
DTSTART:20291104T070000
END:STANDARD
END:VTIMEZONE
BEGIN:VEVENT
DTSTART;TZID=America/Chicago:20271221T100000
DTEND;TZID=America/Chicago:20271221T110000
DTSTAMP:20260423T110438
CREATED:20210302T212240Z
LAST-MODIFIED:20210302T212240Z
UID:46007-1829383200-1829386800@glpby.org
SUMMARY:Public Witness
DESCRIPTION:Zoom meeting: Public Witness\nEvery month on the Third Tuesday \nJoin Zoom Meeting\nhttps://us02web.zoom.us/j/83061373674 \nMeeting ID: 830 6137 3674 \nDial in:  (312) 626-6799 \n 
URL:https://glpby.org/event/public-witness-2024-02-15/2027-12-21/
CATEGORIES:Meetings,Public Witness
END:VEVENT
BEGIN:VEVENT
DTSTART;VALUE=DATE:20271224
DTEND;VALUE=DATE:20280102
DTSTAMP:20260423T110438
CREATED:20210322T193350Z
LAST-MODIFIED:20210322T193350Z
UID:46010-1829606400-1830383999@glpby.org
SUMMARY:Christmas Holiday - Presbytery Office Closed
DESCRIPTION:
URL:https://glpby.org/event/christmas-holiday-presbytery-office-closed-3/2027-12-24/
END:VEVENT
BEGIN:VEVENT
DTSTART;TZID=America/Chicago:20280110T190000
DTEND;TZID=America/Chicago:20280110T210000
DTSTAMP:20260423T110438
CREATED:20210325T153144Z
LAST-MODIFIED:20210325T153144Z
UID:46026-1831143600-1831150800@glpby.org
SUMMARY:DRAWP Meeting
DESCRIPTION:DRAWP Meeting\nEvery month on the Second Monday \nJoin Zoom Meeting\nhttps://us02web.zoom.us/j/89295267531 \nMeeting ID: 892 9526 7531 \nDial in: (312) 626-6799
URL:https://glpby.org/event/drawp-moderators-meeting/2028-01-10/
END:VEVENT
BEGIN:VEVENT
DTSTART;TZID=America/Chicago:20280111T140000
DTEND;TZID=America/Chicago:20280111T153000
DTSTAMP:20260423T110438
CREATED:20240221T173757Z
LAST-MODIFIED:20240221T173757Z
UID:46028-1831212000-1831217400@glpby.org
SUMMARY:Dynamic Leaders Team Meeting
DESCRIPTION:Dynamic Leaders meet on the second Tuesday of each month. \nZoom link: https://us02web.zoom.us/j/81450894788
URL:https://glpby.org/event/dynamic-leaders-team-meeting/2028-01-11/
LOCATION:Held Virtually On Zoom
END:VEVENT
BEGIN:VEVENT
DTSTART;TZID=America/Chicago:20280111T140000
DTEND;TZID=America/Chicago:20280111T153000
DTSTAMP:20260423T110438
CREATED:20240221T173757Z
LAST-MODIFIED:20260310T200554Z
UID:46029-1831212000-1831217400@glpby.org
SUMMARY:Dynamic Leaders Team Meeting
DESCRIPTION:Dynamic Leaders meet on the second Tuesday of each month. \nZoom link: https://us02web.zoom.us/j/81450894788
URL:https://glpby.org/event/dynamic-leaders-team-meeting-2024-06-11-2027-05-11/2028-01-11/
LOCATION:Held Virtually On Zoom
END:VEVENT
BEGIN:VEVENT
DTSTART;TZID=America/Chicago:20280111T153000
DTEND;TZID=America/Chicago:20280111T170000
DTSTAMP:20260423T110438
CREATED:20240221T173757Z
LAST-MODIFIED:20240221T173757Z
UID:46335-1831217400-1831222800@glpby.org
SUMMARY:Dynamic Leaders Team Meeting
DESCRIPTION:Dynamic Leaders meet on the second Tuesday of each month. \nZoom link: https://us02web.zoom.us/j/81450894788
URL:https://glpby.org/event/dynamic-leaders-team-meeting-2024-06-11-2026-04-14/2028-01-11/
LOCATION:Held Virtually On Zoom
CATEGORIES:Dynamic Leaders Event
END:VEVENT
BEGIN:VEVENT
DTSTART;TZID=America/Chicago:20280111T160000
DTEND;TZID=America/Chicago:20280111T170000
DTSTAMP:20260423T110438
CREATED:20210302T175751Z
LAST-MODIFIED:20210302T175751Z
UID:46027-1831219200-1831222800@glpby.org
SUMMARY:Administration Team
DESCRIPTION:Zoom meeting:  Administration Team\nEvery month on the Second Tuesday \nJoin Zoom Meeting\nhttps://us02web.zoom.us/j/84405973030 \nIf using the app\, enter Meeting ID: 844 0597 3030 \nFor those calling in\, please Dial: (312) 626-6799 and enter the Meeting ID (above)
URL:https://glpby.org/event/administration-team/2028-01-11/
CATEGORIES:Meetings
END:VEVENT
BEGIN:VEVENT
DTSTART;TZID=America/Chicago:20280112T110000
DTEND;TZID=America/Chicago:20280112T120000
DTSTAMP:20260423T110438
CREATED:20210302T182610Z
LAST-MODIFIED:20210302T182610Z
UID:46030-1831287600-1831291200@glpby.org
SUMMARY:Transitional Pastor Zoom
DESCRIPTION:Zoom meeting: Interim/Transitional Pastors\nEvery month on the Second Wednesday \nJoin Zoom Meeting\nhttps://us02web.zoom.us/j/87886515558 \nMeeting ID: 878 8651 5558 \nDial in: (312) 626 6799
URL:https://glpby.org/event/transitional-pastor-zoom-2022-03-09/2028-01-12/
CATEGORIES:Pastor Meetings
END:VEVENT
BEGIN:VEVENT
DTSTART;TZID=America/Chicago:20280113T093000
DTEND;TZID=America/Chicago:20280113T110000
DTSTAMP:20260423T110438
CREATED:20210309T152345Z
LAST-MODIFIED:20260305T215020Z
UID:46031-1831368600-1831374000@glpby.org
SUMMARY:History Workgroup
DESCRIPTION:
URL:https://glpby.org/event/history-team/2028-01-13/
LOCATION:Southminster Presbyterian Church\, 10126 E Watson Rd\, St Louis\, MO\, 63126
CATEGORIES:Meetings
END:VEVENT
BEGIN:VEVENT
DTSTART;VALUE=DATE:20280117
DTEND;VALUE=DATE:20280118
DTSTAMP:20260423T110438
CREATED:20210322T191022Z
LAST-MODIFIED:20210322T191022Z
UID:46037-1831680000-1831766399@glpby.org
SUMMARY:MLK Day - Presbytery Office Closed
DESCRIPTION:
URL:https://glpby.org/event/mlk-day-presbytery-office-closed/2028-01-17/
END:VEVENT
BEGIN:VEVENT
DTSTART;TZID=America/Chicago:20280118T100000
DTEND;TZID=America/Chicago:20280118T110000
DTSTAMP:20260423T110438
CREATED:20210302T212240Z
LAST-MODIFIED:20210302T212240Z
UID:46038-1831802400-1831806000@glpby.org
SUMMARY:Public Witness
DESCRIPTION:Zoom meeting: Public Witness\nEvery month on the Third Tuesday \nJoin Zoom Meeting\nhttps://us02web.zoom.us/j/83061373674 \nMeeting ID: 830 6137 3674 \nDial in:  (312) 626-6799 \n 
URL:https://glpby.org/event/public-witness-2024-02-15/2028-01-18/
CATEGORIES:Meetings,Public Witness
END:VEVENT
BEGIN:VEVENT
DTSTART;TZID=America/Chicago:20280119T183000
DTEND;TZID=America/Chicago:20280119T200000
DTSTAMP:20260423T110438
CREATED:20210302T183156Z
LAST-MODIFIED:20210302T183156Z
UID:46039-1831919400-1831924800@glpby.org
SUMMARY:Commission on Ministry
DESCRIPTION:Zoom meeting: Commission on Ministry\nEvery month on the Second Wednesday \nJoin Zoom Meeting\nhttps://us02web.zoom.us/j/751840652 \nMeeting ID: 751 840 652 \nDial in: (312) 626-6799 \n 
URL:https://glpby.org/event/committee-on-ministry-2022-03-09-2023-07-12-2024-01-11/2028-01-19/
CATEGORIES:Meetings
END:VEVENT
BEGIN:VEVENT
DTSTART;TZID=America/Chicago:20280120T133000
DTEND;TZID=America/Chicago:20280120T143000
DTSTAMP:20260423T110438
CREATED:20210309T154319Z
LAST-MODIFIED:20210309T154319Z
UID:46055-1831987800-1831991400@glpby.org
SUMMARY:Vision Team
DESCRIPTION:Topic: Vision Team\nEvery month on the Third Thursday \nJoin Zoom Meeting\nhttps://us02web.zoom.us/j/82396157933 \nMeeting ID: 823 9615 7933 \nDial in: (312) 626-6799 \n 
URL:https://glpby.org/event/vision-team-2022-09-15/2028-01-20/
CATEGORIES:Meetings
END:VEVENT
BEGIN:VEVENT
DTSTART;TZID=America/Chicago:20280121T100000
DTEND;TZID=America/Chicago:20280121T120000
DTSTAMP:20260423T110438
CREATED:20250130T220105Z
LAST-MODIFIED:20250130T220105Z
UID:46076-1832061600-1832068800@glpby.org
SUMMARY:PW Coordinating Team
DESCRIPTION:Zoom meeting:  PW Coordinating Council\nEvery month on the Third Friday \nJoin Zoom Meeting\nhttps://us02web.zoom.us/j/86939076534 \nMeeting ID: 869 3907 6534 \nDial in: (312) 626-6799 \n 
URL:https://glpby.org/event/presbyterian-women-coordinating-council/2028-01-21/
LOCATION:Zoom
CATEGORIES:Meetings,Presbyterian Women
END:VEVENT
BEGIN:VEVENT
DTSTART;VALUE=DATE:20280124
DTEND;VALUE=DATE:20280202
DTSTAMP:20260423T110438
CREATED:20210322T193350Z
LAST-MODIFIED:20210322T193350Z
UID:46079-1832284800-1833062399@glpby.org
SUMMARY:Christmas Holiday - Presbytery Office Closed
DESCRIPTION:
URL:https://glpby.org/event/christmas-holiday-presbytery-office-closed-3/2028-01-24/
END:VEVENT
BEGIN:VEVENT
DTSTART;TZID=America/Chicago:20280208T140000
DTEND;TZID=America/Chicago:20280208T153000
DTSTAMP:20260423T110438
CREATED:20240221T173757Z
LAST-MODIFIED:20240221T173757Z
UID:46136-1833631200-1833636600@glpby.org
SUMMARY:Dynamic Leaders Team Meeting
DESCRIPTION:Dynamic Leaders meet on the second Tuesday of each month. \nZoom link: https://us02web.zoom.us/j/81450894788
URL:https://glpby.org/event/dynamic-leaders-team-meeting/2028-02-08/
LOCATION:Held Virtually On Zoom
END:VEVENT
BEGIN:VEVENT
DTSTART;TZID=America/Chicago:20280208T140000
DTEND;TZID=America/Chicago:20280208T153000
DTSTAMP:20260423T110438
CREATED:20240221T173757Z
LAST-MODIFIED:20260310T200554Z
UID:46137-1833631200-1833636600@glpby.org
SUMMARY:Dynamic Leaders Team Meeting
DESCRIPTION:Dynamic Leaders meet on the second Tuesday of each month. \nZoom link: https://us02web.zoom.us/j/81450894788
URL:https://glpby.org/event/dynamic-leaders-team-meeting-2024-06-11-2027-05-11/2028-02-08/
LOCATION:Held Virtually On Zoom
END:VEVENT
BEGIN:VEVENT
DTSTART;TZID=America/Chicago:20280208T153000
DTEND;TZID=America/Chicago:20280208T170000
DTSTAMP:20260423T110438
CREATED:20240221T173757Z
LAST-MODIFIED:20240221T173757Z
UID:46336-1833636600-1833642000@glpby.org
SUMMARY:Dynamic Leaders Team Meeting
DESCRIPTION:Dynamic Leaders meet on the second Tuesday of each month. \nZoom link: https://us02web.zoom.us/j/81450894788
URL:https://glpby.org/event/dynamic-leaders-team-meeting-2024-06-11-2026-04-14/2028-02-08/
LOCATION:Held Virtually On Zoom
CATEGORIES:Dynamic Leaders Event
END:VEVENT
BEGIN:VEVENT
DTSTART;TZID=America/Chicago:20280208T160000
DTEND;TZID=America/Chicago:20280208T170000
DTSTAMP:20260423T110438
CREATED:20210302T175751Z
LAST-MODIFIED:20210302T175751Z
UID:46135-1833638400-1833642000@glpby.org
SUMMARY:Administration Team
DESCRIPTION:Zoom meeting:  Administration Team\nEvery month on the Second Tuesday \nJoin Zoom Meeting\nhttps://us02web.zoom.us/j/84405973030 \nIf using the app\, enter Meeting ID: 844 0597 3030 \nFor those calling in\, please Dial: (312) 626-6799 and enter the Meeting ID (above)
URL:https://glpby.org/event/administration-team/2028-02-08/
CATEGORIES:Meetings
END:VEVENT
BEGIN:VEVENT
DTSTART;TZID=America/Chicago:20280209T110000
DTEND;TZID=America/Chicago:20280209T120000
DTSTAMP:20260423T110438
CREATED:20210302T182610Z
LAST-MODIFIED:20210302T182610Z
UID:46138-1833706800-1833710400@glpby.org
SUMMARY:Transitional Pastor Zoom
DESCRIPTION:Zoom meeting: Interim/Transitional Pastors\nEvery month on the Second Wednesday \nJoin Zoom Meeting\nhttps://us02web.zoom.us/j/87886515558 \nMeeting ID: 878 8651 5558 \nDial in: (312) 626 6799
URL:https://glpby.org/event/transitional-pastor-zoom-2022-03-09/2028-02-09/
CATEGORIES:Pastor Meetings
END:VEVENT
BEGIN:VEVENT
DTSTART;TZID=America/Chicago:20280210T093000
DTEND;TZID=America/Chicago:20280210T110000
DTSTAMP:20260423T110438
CREATED:20210309T152345Z
LAST-MODIFIED:20260305T215020Z
UID:46143-1833787800-1833793200@glpby.org
SUMMARY:History Workgroup
DESCRIPTION:
URL:https://glpby.org/event/history-team/2028-02-10/
LOCATION:Southminster Presbyterian Church\, 10126 E Watson Rd\, St Louis\, MO\, 63126
CATEGORIES:Meetings
END:VEVENT
BEGIN:VEVENT
DTSTART;TZID=America/Chicago:20280214T190000
DTEND;TZID=America/Chicago:20280214T210000
DTSTAMP:20260423T110438
CREATED:20210325T153144Z
LAST-MODIFIED:20210325T153144Z
UID:46157-1834167600-1834174800@glpby.org
SUMMARY:DRAWP Meeting
DESCRIPTION:DRAWP Meeting\nEvery month on the Second Monday \nJoin Zoom Meeting\nhttps://us02web.zoom.us/j/89295267531 \nMeeting ID: 892 9526 7531 \nDial in: (312) 626-6799
URL:https://glpby.org/event/drawp-moderators-meeting/2028-02-14/
END:VEVENT
BEGIN:VEVENT
DTSTART;TZID=America/Chicago:20280215T100000
DTEND;TZID=America/Chicago:20280215T110000
DTSTAMP:20260423T110438
CREATED:20210302T212240Z
LAST-MODIFIED:20210302T212240Z
UID:46158-1834221600-1834225200@glpby.org
SUMMARY:Public Witness
DESCRIPTION:Zoom meeting: Public Witness\nEvery month on the Third Tuesday \nJoin Zoom Meeting\nhttps://us02web.zoom.us/j/83061373674 \nMeeting ID: 830 6137 3674 \nDial in:  (312) 626-6799 \n 
URL:https://glpby.org/event/public-witness-2024-02-15/2028-02-15/
CATEGORIES:Meetings,Public Witness
END:VEVENT
BEGIN:VEVENT
DTSTART;TZID=America/Chicago:20280216T183000
DTEND;TZID=America/Chicago:20280216T200000
DTSTAMP:20260423T110438
CREATED:20210302T183156Z
LAST-MODIFIED:20210302T183156Z
UID:46159-1834338600-1834344000@glpby.org
SUMMARY:Commission on Ministry
DESCRIPTION:Zoom meeting: Commission on Ministry\nEvery month on the Second Wednesday \nJoin Zoom Meeting\nhttps://us02web.zoom.us/j/751840652 \nMeeting ID: 751 840 652 \nDial in: (312) 626-6799 \n 
URL:https://glpby.org/event/committee-on-ministry-2022-03-09-2023-07-12-2024-01-11/2028-02-16/
CATEGORIES:Meetings
END:VEVENT
BEGIN:VEVENT
DTSTART;TZID=America/Chicago:20280217T133000
DTEND;TZID=America/Chicago:20280217T143000
DTSTAMP:20260423T110438
CREATED:20210309T154319Z
LAST-MODIFIED:20210309T154319Z
UID:46160-1834407000-1834410600@glpby.org
SUMMARY:Vision Team
DESCRIPTION:Topic: Vision Team\nEvery month on the Third Thursday \nJoin Zoom Meeting\nhttps://us02web.zoom.us/j/82396157933 \nMeeting ID: 823 9615 7933 \nDial in: (312) 626-6799 \n 
URL:https://glpby.org/event/vision-team-2022-09-15/2028-02-17/
CATEGORIES:Meetings
END:VEVENT
BEGIN:VEVENT
DTSTART;TZID=America/Chicago:20280218T100000
DTEND;TZID=America/Chicago:20280218T120000
DTSTAMP:20260423T110438
CREATED:20250130T220105Z
LAST-MODIFIED:20250130T220105Z
UID:46161-1834480800-1834488000@glpby.org
SUMMARY:PW Coordinating Team
DESCRIPTION:Zoom meeting:  PW Coordinating Council\nEvery month on the Third Friday \nJoin Zoom Meeting\nhttps://us02web.zoom.us/j/86939076534 \nMeeting ID: 869 3907 6534 \nDial in: (312) 626-6799 \n 
URL:https://glpby.org/event/presbyterian-women-coordinating-council/2028-02-18/
LOCATION:Zoom
CATEGORIES:Meetings,Presbyterian Women
END:VEVENT
BEGIN:VEVENT
DTSTART;TZID=America/Chicago:20280308T110000
DTEND;TZID=America/Chicago:20280308T120000
DTSTAMP:20260423T110438
CREATED:20210302T182610Z
LAST-MODIFIED:20210302T182610Z
UID:46269-1836126000-1836129600@glpby.org
SUMMARY:Transitional Pastor Zoom
DESCRIPTION:Zoom meeting: Interim/Transitional Pastors\nEvery month on the Second Wednesday \nJoin Zoom Meeting\nhttps://us02web.zoom.us/j/87886515558 \nMeeting ID: 878 8651 5558 \nDial in: (312) 626 6799
URL:https://glpby.org/event/transitional-pastor-zoom-2022-03-09/2028-03-08/
CATEGORIES:Pastor Meetings
END:VEVENT
BEGIN:VEVENT
DTSTART;TZID=America/Chicago:20280309T093000
DTEND;TZID=America/Chicago:20280309T110000
DTSTAMP:20260423T110438
CREATED:20210309T152345Z
LAST-MODIFIED:20210309T152345Z
UID:46287-1836207000-1836212400@glpby.org
SUMMARY:History Workgroup
DESCRIPTION:
URL:https://glpby.org/event/history-team/2028-03-09/
LOCATION:Southminster Presbyterian Church\, 10126 E Watson Rd\, St Louis\, MO\, 63126
CATEGORIES:Meetings
END:VEVENT
BEGIN:VEVENT
DTSTART;TZID=America/Chicago:20280313T190000
DTEND;TZID=America/Chicago:20280313T210000
DTSTAMP:20260423T110438
CREATED:20210325T153144Z
LAST-MODIFIED:20210325T153144Z
UID:46343-1836586800-1836594000@glpby.org
SUMMARY:DRAWP Meeting
DESCRIPTION:DRAWP Meeting\nEvery month on the Second Monday \nJoin Zoom Meeting\nhttps://us02web.zoom.us/j/89295267531 \nMeeting ID: 892 9526 7531 \nDial in: (312) 626-6799
URL:https://glpby.org/event/drawp-moderators-meeting/2028-03-13/
END:VEVENT
BEGIN:VEVENT
DTSTART;TZID=America/Chicago:20280314T140000
DTEND;TZID=America/Chicago:20280314T153000
DTSTAMP:20260423T110438
CREATED:20240221T173757Z
LAST-MODIFIED:20240221T173757Z
UID:46345-1836655200-1836660600@glpby.org
SUMMARY:Dynamic Leaders Team Meeting
DESCRIPTION:Dynamic Leaders meet on the second Tuesday of each month. \nZoom link: https://us02web.zoom.us/j/81450894788
URL:https://glpby.org/event/dynamic-leaders-team-meeting/2028-03-14/
LOCATION:Held Virtually On Zoom
END:VEVENT
END:VCALENDAR