BEGIN:VCALENDAR
VERSION:2.0
PRODID:-//Presbytery of Giddings-Lovejoy - ECPv6.15.18//NONSGML v1.0//EN
CALSCALE:GREGORIAN
METHOD:PUBLISH
X-WR-CALNAME:Presbytery of Giddings-Lovejoy
X-ORIGINAL-URL:https://glpby.org
X-WR-CALDESC:Events for Presbytery of Giddings-Lovejoy
REFRESH-INTERVAL;VALUE=DURATION:PT1H
X-Robots-Tag:noindex
X-PUBLISHED-TTL:PT1H
BEGIN:VTIMEZONE
TZID:America/Chicago
BEGIN:DAYLIGHT
TZOFFSETFROM:-0600
TZOFFSETTO:-0500
TZNAME:CDT
DTSTART:20200308T080000
END:DAYLIGHT
BEGIN:STANDARD
TZOFFSETFROM:-0500
TZOFFSETTO:-0600
TZNAME:CST
DTSTART:20201101T070000
END:STANDARD
BEGIN:DAYLIGHT
TZOFFSETFROM:-0600
TZOFFSETTO:-0500
TZNAME:CDT
DTSTART:20210314T080000
END:DAYLIGHT
BEGIN:STANDARD
TZOFFSETFROM:-0500
TZOFFSETTO:-0600
TZNAME:CST
DTSTART:20211107T070000
END:STANDARD
BEGIN:DAYLIGHT
TZOFFSETFROM:-0600
TZOFFSETTO:-0500
TZNAME:CDT
DTSTART:20220313T080000
END:DAYLIGHT
BEGIN:STANDARD
TZOFFSETFROM:-0500
TZOFFSETTO:-0600
TZNAME:CST
DTSTART:20221106T070000
END:STANDARD
BEGIN:DAYLIGHT
TZOFFSETFROM:-0600
TZOFFSETTO:-0500
TZNAME:CDT
DTSTART:20230312T080000
END:DAYLIGHT
BEGIN:STANDARD
TZOFFSETFROM:-0500
TZOFFSETTO:-0600
TZNAME:CST
DTSTART:20231105T070000
END:STANDARD
BEGIN:DAYLIGHT
TZOFFSETFROM:-0600
TZOFFSETTO:-0500
TZNAME:CDT
DTSTART:20240310T080000
END:DAYLIGHT
BEGIN:STANDARD
TZOFFSETFROM:-0500
TZOFFSETTO:-0600
TZNAME:CST
DTSTART:20241103T070000
END:STANDARD
BEGIN:DAYLIGHT
TZOFFSETFROM:-0600
TZOFFSETTO:-0500
TZNAME:CDT
DTSTART:20250309T080000
END:DAYLIGHT
BEGIN:STANDARD
TZOFFSETFROM:-0500
TZOFFSETTO:-0600
TZNAME:CST
DTSTART:20251102T070000
END:STANDARD
END:VTIMEZONE
BEGIN:VEVENT
DTSTART;TZID=America/Chicago:20240507T090000
DTEND;TZID=America/Chicago:20240507T150000
DTSTAMP:20260421T144713
CREATED:20240430T172845Z
LAST-MODIFIED:20240430T172852Z
UID:43577-1715072400-1715094000@glpby.org
SUMMARY:PDA Pastor Event
DESCRIPTION:Learn more here: https://glpby.org/services/pastoral-support/
URL:https://glpby.org/event/pda-pastor-event/
LOCATION:First Presbyterian Church\, Kirkwood\, 100 E Adams Ave\, Saint Louis\, MO\, 63122\, United States
CATEGORIES:Pastor Events
ATTACH;FMTTYPE=image/jpeg:https://glpby.org/wp-content/uploads/PDA-at-FPC-Kirkwood.jpg
END:VEVENT
BEGIN:VEVENT
DTSTART;TZID=America/Chicago:20220216T090000
DTEND;TZID=America/Chicago:20220216T120000
DTSTAMP:20260421T144713
CREATED:20220112T174719Z
LAST-MODIFIED:20220112T174719Z
UID:38510-1645002000-1645012800@glpby.org
SUMMARY:Boundary Training
DESCRIPTION:PASTOR REQUIRED BOUNDARY TRAINING\nFor All Pastors Currently Serving a Congregation\, on the Pulpit Supply List\, Chaplains\, and Educational Roles. \nWednesday\, February 16 | 9 am to 12 pm\nZoom opens at 8:45 am \nUnderstanding Healthy Boundaries:\nInsights for Ministry \nHandout Found Here \nThrough this training course\, clergy will learn the three basic types of interpersonal boundaries and the implications of each type for ministry. The presentation will encourage clergy to think about boundaries from a developmental\, systemic\, and existential frame of reference. Potential boundary conflicts for clergy will be identified as well as effective approaches for reducing and mediating common boundary conflicts in ministry. \nAbout the presenter: Christopher Grimes\, Psy.D. is a clinical psychologist and director of the Program for Psychology and Religion at St. Louis Behavioral Medicine Institute. Dr. Grimes and his staff specialize in the assessment and treatment of clergy and lay ministers\, evaluating clients\, and providing direction for the psychological and social aspects of formation\, treatment\, and future growth of religious professionals and candidates for ordination and religious vocations. Dr. Grimes is an ordained ruling elder in the Presbyterian Church-USA and he is a member of Dardenne Presbyterian Church\, Dardenne Prairie\, MO. \nIf you have already participated in boundary training within the last three years\, you must submit a copy of the certificate of completion to the Stated Clerk\, Rev. Joy Myers\, at jmyers@glpby.org or by mailing it to 1001 Craig Rd.\, Suite 170\, St. Louis\, MO 63146. If you have any questions\, please call her at 314.772.2395. We look forward to seeing you on February 16! \n\nRegister Here | Zoom Link Found Here\n\n 
URL:https://glpby.org/event/boundary-training-2/
LOCATION:Zoom
CATEGORIES:Pastor Events
ATTACH;FMTTYPE=image/jpeg:https://glpby.org/wp-content/uploads/Boundary-Training.jpg
END:VEVENT
BEGIN:VEVENT
DTSTART;TZID=America/Chicago:20210930T090000
DTEND;TZID=America/Chicago:20210930T120000
DTSTAMP:20260421T144713
CREATED:20210915T140815Z
LAST-MODIFIED:20210929T200602Z
UID:37878-1632992400-1633003200@glpby.org
SUMMARY:Boundary Training
DESCRIPTION:PASTOR REQUIRED BOUNDARY TRAINING\nFor All Pastors Currently Serving a Congregation\, on the Pulpit Supply List\, Chaplains\, and Educational Roles. \nThursday\, September 30 | 9 am to 12 pm\nZoom opens at 8:45 am \nUnderstanding Healthy Boundaries:\nInsights for Ministry \nHandout Found Here \nThrough this training course\, clergy will learn the three basic types of interpersonal boundaries and the implications of each type for ministry. The presentation will encourage clergy to think about boundaries from a developmental\, systemic\, and existential frame of reference. Potential boundary conflicts for clergy will be identified as well as effective approaches for reducing and mediating common boundary conflicts in ministry. \nAbout the presenter: Christopher Grimes\, Psy.D. is a clinical psychologist and director of the Program for Psychology and Religion at St. Louis Behavioral Medicine Institute. Dr. Grimes and his staff specialize in the assessment and treatment of clergy and lay ministers\, evaluating clients\, and providing direction for the psychological and social aspects of formation\, treatment\, and future growth of religious professionals and candidates for ordination and religious vocations. Dr. Grimes is an ordained ruling elder in the Presbyterian Church-USA and he is a member of Dardenne Presbyterian Church\, Dardenne Prairie\, MO. \nIf you have already participated in boundary training within the last three years\, you must submit a copy of the certificate of completion to the Stated Clerk\, Rev. Joy Myers\, at jmyers@glpby.org or by mailing it to 1001 Craig Rd.\, Suite 170\, St. Louis\, MO 63146. If you have any questions\, please call her at 314.772.2395. We look forward to seeing you on September 30! \n\nRegister Here | Zoom Link Found Here\n\n 
URL:https://glpby.org/event/boundary-training/
LOCATION:Zoom
CATEGORIES:Pastor Events
ATTACH;FMTTYPE=image/jpeg:https://glpby.org/wp-content/uploads/Boundary-Training.jpg
END:VEVENT
END:VCALENDAR