BEGIN:VCALENDAR
VERSION:2.0
PRODID:-//Presbytery of Giddings-Lovejoy - ECPv6.15.18//NONSGML v1.0//EN
CALSCALE:GREGORIAN
METHOD:PUBLISH
X-WR-CALNAME:Presbytery of Giddings-Lovejoy
X-ORIGINAL-URL:https://glpby.org
X-WR-CALDESC:Events for Presbytery of Giddings-Lovejoy
REFRESH-INTERVAL;VALUE=DURATION:PT1H
X-Robots-Tag:noindex
X-PUBLISHED-TTL:PT1H
BEGIN:VTIMEZONE
TZID:America/Chicago
BEGIN:DAYLIGHT
TZOFFSETFROM:-0600
TZOFFSETTO:-0500
TZNAME:CDT
DTSTART:20240310T080000
END:DAYLIGHT
BEGIN:STANDARD
TZOFFSETFROM:-0500
TZOFFSETTO:-0600
TZNAME:CST
DTSTART:20241103T070000
END:STANDARD
BEGIN:DAYLIGHT
TZOFFSETFROM:-0600
TZOFFSETTO:-0500
TZNAME:CDT
DTSTART:20250309T080000
END:DAYLIGHT
BEGIN:STANDARD
TZOFFSETFROM:-0500
TZOFFSETTO:-0600
TZNAME:CST
DTSTART:20251102T070000
END:STANDARD
BEGIN:DAYLIGHT
TZOFFSETFROM:-0600
TZOFFSETTO:-0500
TZNAME:CDT
DTSTART:20260308T080000
END:DAYLIGHT
BEGIN:STANDARD
TZOFFSETFROM:-0500
TZOFFSETTO:-0600
TZNAME:CST
DTSTART:20261101T070000
END:STANDARD
END:VTIMEZONE
BEGIN:VEVENT
DTSTART;TZID=America/Chicago:20250820T163000
DTEND;TZID=America/Chicago:20250820T183000
DTSTAMP:20260423T165404
CREATED:20250730T171800Z
LAST-MODIFIED:20250819T173007Z
UID:45556-1755707400-1755714600@glpby.org
SUMMARY:Commission on Ministry Meeting
DESCRIPTION:Moderator\, Rev. Dr. Chris Keating\, has scheduled a meeting of the Commission on Ministry for Wednesday\, August 20\, 2025\, from 4:00 pm to 6:00 pm (approx) at Faith DesPeres Presbyterian Church.
URL:https://glpby.org/event/commission-on-ministry-meeting/
LOCATION:Faith DesPeres Presbyterian\, 11155 Clayton Rd\,\, Saint Louis\, MO\, 63131
CATEGORIES:Meetings
END:VEVENT
END:VCALENDAR