BEGIN:VCALENDAR
VERSION:2.0
PRODID:-//Presbytery of Giddings-Lovejoy - ECPv6.15.18//NONSGML v1.0//EN
CALSCALE:GREGORIAN
METHOD:PUBLISH
X-ORIGINAL-URL:https://glpby.org
X-WR-CALDESC:Events for Presbytery of Giddings-Lovejoy
REFRESH-INTERVAL;VALUE=DURATION:PT1H
X-Robots-Tag:noindex
X-PUBLISHED-TTL:PT1H
BEGIN:VTIMEZONE
TZID:America/Chicago
BEGIN:DAYLIGHT
TZOFFSETFROM:-0600
TZOFFSETTO:-0500
TZNAME:CDT
DTSTART:20240310T080000
END:DAYLIGHT
BEGIN:STANDARD
TZOFFSETFROM:-0500
TZOFFSETTO:-0600
TZNAME:CST
DTSTART:20241103T070000
END:STANDARD
BEGIN:DAYLIGHT
TZOFFSETFROM:-0600
TZOFFSETTO:-0500
TZNAME:CDT
DTSTART:20250309T080000
END:DAYLIGHT
BEGIN:STANDARD
TZOFFSETFROM:-0500
TZOFFSETTO:-0600
TZNAME:CST
DTSTART:20251102T070000
END:STANDARD
BEGIN:DAYLIGHT
TZOFFSETFROM:-0600
TZOFFSETTO:-0500
TZNAME:CDT
DTSTART:20260308T080000
END:DAYLIGHT
BEGIN:STANDARD
TZOFFSETFROM:-0500
TZOFFSETTO:-0600
TZNAME:CST
DTSTART:20261101T070000
END:STANDARD
END:VTIMEZONE
BEGIN:VEVENT
DTSTART;TZID=America/Chicago:20250918T133000
DTEND;TZID=America/Chicago:20250918T143000
DTSTAMP:20260419T115904
CREATED:20210309T154319Z
LAST-MODIFIED:20250508T164245Z
UID:42176-1758202200-1758205800@glpby.org
SUMMARY:Vision Team
DESCRIPTION:Topic: Vision Team\nEvery month on the Third Thursday \nJoin Zoom Meeting\nhttps://us02web.zoom.us/j/82396157933 \nMeeting ID: 823 9615 7933 \nDial in: (312) 626-6799 \n 
URL:https://glpby.org/event/vision-team-2022-09-15/2025-09-18/
CATEGORIES:Meetings
END:VEVENT
BEGIN:VEVENT
DTSTART;TZID=America/Chicago:20250918T183000
DTEND;TZID=America/Chicago:20250918T200000
DTSTAMP:20260419T115904
CREATED:20210302T183156Z
LAST-MODIFIED:20250916T144504Z
UID:42785-1758220200-1758225600@glpby.org
SUMMARY:Commission on Ministry
DESCRIPTION:Zoom meeting: Commission on Ministry\nEvery month on the Second Wednesday (Exception this Month) \nJoin Zoom Meeting\nhttps://us02web.zoom.us/j/751840652 \nMeeting ID: 751 840 652 \nDial in: (312) 626-6799 \n 
URL:https://glpby.org/event/committee-on-ministry-2022-03-09-2023-07-12-2024-01-11/2025-09-18/
CATEGORIES:Meetings
END:VEVENT
END:VCALENDAR