BEGIN:VCALENDAR
VERSION:2.0
PRODID:-//Presbytery of Giddings-Lovejoy - ECPv6.15.18//NONSGML v1.0//EN
CALSCALE:GREGORIAN
METHOD:PUBLISH
X-ORIGINAL-URL:https://glpby.org
X-WR-CALDESC:Events for Presbytery of Giddings-Lovejoy
REFRESH-INTERVAL;VALUE=DURATION:PT1H
X-Robots-Tag:noindex
X-PUBLISHED-TTL:PT1H
BEGIN:VTIMEZONE
TZID:America/Chicago
BEGIN:DAYLIGHT
TZOFFSETFROM:-0600
TZOFFSETTO:-0500
TZNAME:CDT
DTSTART:20240310T080000
END:DAYLIGHT
BEGIN:STANDARD
TZOFFSETFROM:-0500
TZOFFSETTO:-0600
TZNAME:CST
DTSTART:20241103T070000
END:STANDARD
BEGIN:DAYLIGHT
TZOFFSETFROM:-0600
TZOFFSETTO:-0500
TZNAME:CDT
DTSTART:20250309T080000
END:DAYLIGHT
BEGIN:STANDARD
TZOFFSETFROM:-0500
TZOFFSETTO:-0600
TZNAME:CST
DTSTART:20251102T070000
END:STANDARD
BEGIN:DAYLIGHT
TZOFFSETFROM:-0600
TZOFFSETTO:-0500
TZNAME:CDT
DTSTART:20260308T080000
END:DAYLIGHT
BEGIN:STANDARD
TZOFFSETFROM:-0500
TZOFFSETTO:-0600
TZNAME:CST
DTSTART:20261101T070000
END:STANDARD
END:VTIMEZONE
BEGIN:VEVENT
DTSTART;VALUE=DATE:20250728
DTEND;VALUE=DATE:20250801
DTSTAMP:20260420T022248
CREATED:20250224T175255Z
LAST-MODIFIED:20250224T175255Z
UID:45034-1753660800-1754006399@glpby.org
SUMMARY:Triennium 2025
DESCRIPTION:We are beginning the registration process for Triennium 2025\, and we don’t want to miss YOU!   \nIf you or your church have youth who are interested in attending the 2025 Triennium in Louisville\, KY- our presbytery will be sending a delegation! This year’s gathering from July 28th-31st is titled “As If We Were Dreaming”. The focus will be on developing youth leadership and growth faith through fellowship\, recreation\, workshops\, and worship.  \n The delegation will be considered a “community group”\, so youth will build and grow connections with other youth in their presbytery over the four-day period. There will also be two scheduled opportunities for youth to register in special interest groups where they can meet and learn with other interested Presbyterian youth from around the country- focusing on topics like music\, worship and liturgical art\, social justice and witness\, mission and activism\, and much more.  \n Additional details on cost\, transportation\, and lodging for the presbytery delegation are coming soon\, but preliminary details and FAQs about the Triennium event can be found at presbyterianyouthtriennium.org.   \n If you or your church have youth that would be interested in this once in a lifetime experience- please contact the GLPBY Triennium registrar\, Matt Miller\, at triennium@glpby.org. 
URL:https://glpby.org/event/triennium-2025/
END:VEVENT
END:VCALENDAR