BEGIN:VCALENDAR
VERSION:2.0
PRODID:-//Presbytery of Giddings-Lovejoy - ECPv6.15.18//NONSGML v1.0//EN
CALSCALE:GREGORIAN
METHOD:PUBLISH
X-ORIGINAL-URL:https://glpby.org
X-WR-CALDESC:Events for Presbytery of Giddings-Lovejoy
REFRESH-INTERVAL;VALUE=DURATION:PT1H
X-Robots-Tag:noindex
X-PUBLISHED-TTL:PT1H
BEGIN:VTIMEZONE
TZID:America/Chicago
BEGIN:DAYLIGHT
TZOFFSETFROM:-0600
TZOFFSETTO:-0500
TZNAME:CDT
DTSTART:20240310T080000
END:DAYLIGHT
BEGIN:STANDARD
TZOFFSETFROM:-0500
TZOFFSETTO:-0600
TZNAME:CST
DTSTART:20241103T070000
END:STANDARD
BEGIN:DAYLIGHT
TZOFFSETFROM:-0600
TZOFFSETTO:-0500
TZNAME:CDT
DTSTART:20250309T080000
END:DAYLIGHT
BEGIN:STANDARD
TZOFFSETFROM:-0500
TZOFFSETTO:-0600
TZNAME:CST
DTSTART:20251102T070000
END:STANDARD
BEGIN:DAYLIGHT
TZOFFSETFROM:-0600
TZOFFSETTO:-0500
TZNAME:CDT
DTSTART:20260308T080000
END:DAYLIGHT
BEGIN:STANDARD
TZOFFSETFROM:-0500
TZOFFSETTO:-0600
TZNAME:CST
DTSTART:20261101T070000
END:STANDARD
END:VTIMEZONE
BEGIN:VEVENT
DTSTART;TZID=America/Chicago:20250116T093000
DTEND;TZID=America/Chicago:20250116T110000
DTSTAMP:20260421T190654
CREATED:20210309T152345Z
LAST-MODIFIED:20250108T155600Z
UID:40558-1737019800-1737025200@glpby.org
SUMMARY:History Team
DESCRIPTION:
URL:https://glpby.org/event/history-team-2025-01-09/
LOCATION:Southminster Presbyterian Church\, 10126 E Watson Rd\, St Louis\, MO\, 63126
CATEGORIES:Meetings
END:VEVENT
BEGIN:VEVENT
DTSTART;TZID=America/Chicago:20250116T133000
DTEND;TZID=America/Chicago:20250116T143000
DTSTAMP:20260421T190654
CREATED:20210309T154319Z
LAST-MODIFIED:20250508T164244Z
UID:40629-1737034200-1737037800@glpby.org
SUMMARY:Vision Team
DESCRIPTION:Topic: Vision Team\nEvery month on the Third Thursday \nJoin Zoom Meeting\nhttps://us02web.zoom.us/j/82396157933 \nMeeting ID: 823 9615 7933 \nDial in: (312) 626-6799 \n 
URL:https://glpby.org/event/vision-team-2022-09-15/2025-01-16/
CATEGORIES:Meetings
END:VEVENT
BEGIN:VEVENT
DTSTART;TZID=America/Chicago:20250116T183000
DTEND;TZID=America/Chicago:20250116T203000
DTSTAMP:20260421T190654
CREATED:20240926T173451Z
LAST-MODIFIED:20240926T173451Z
UID:44249-1737052200-1737059400@glpby.org
SUMMARY:Ruling Elder Boundary Training
DESCRIPTION:This event is still being planned. Full details will be coming soon.
URL:https://glpby.org/event/ruling-elder-boundary-training/
LOCATION:Zoom
END:VEVENT
END:VCALENDAR