BEGIN:VCALENDAR
VERSION:2.0
PRODID:-//Presbytery of Giddings-Lovejoy - ECPv6.15.18//NONSGML v1.0//EN
CALSCALE:GREGORIAN
METHOD:PUBLISH
X-WR-CALNAME:Presbytery of Giddings-Lovejoy
X-ORIGINAL-URL:https://glpby.org
X-WR-CALDESC:Events for Presbytery of Giddings-Lovejoy
REFRESH-INTERVAL;VALUE=DURATION:PT1H
X-Robots-Tag:noindex
X-PUBLISHED-TTL:PT1H
BEGIN:VTIMEZONE
TZID:America/Chicago
BEGIN:DAYLIGHT
TZOFFSETFROM:-0600
TZOFFSETTO:-0500
TZNAME:CDT
DTSTART:20230312T080000
END:DAYLIGHT
BEGIN:STANDARD
TZOFFSETFROM:-0500
TZOFFSETTO:-0600
TZNAME:CST
DTSTART:20231105T070000
END:STANDARD
BEGIN:DAYLIGHT
TZOFFSETFROM:-0600
TZOFFSETTO:-0500
TZNAME:CDT
DTSTART:20240310T080000
END:DAYLIGHT
BEGIN:STANDARD
TZOFFSETFROM:-0500
TZOFFSETTO:-0600
TZNAME:CST
DTSTART:20241103T070000
END:STANDARD
BEGIN:DAYLIGHT
TZOFFSETFROM:-0600
TZOFFSETTO:-0500
TZNAME:CDT
DTSTART:20250309T080000
END:DAYLIGHT
BEGIN:STANDARD
TZOFFSETFROM:-0500
TZOFFSETTO:-0600
TZNAME:CST
DTSTART:20251102T070000
END:STANDARD
END:VTIMEZONE
BEGIN:VEVENT
DTSTART;TZID=America/Chicago:20241214T123000
DTEND;TZID=America/Chicago:20241214T140000
DTSTAMP:20260425T203950
CREATED:20240926T182012Z
LAST-MODIFIED:20241122T175431Z
UID:44254-1734179400-1734184800@glpby.org
SUMMARY:Called Presbytery Gathering
DESCRIPTION:Special Called Meeting of the Presbytery \nSaturday\, December 14th\, 12:30pm (doors open at 11:30am) \nIn-Person Participation Only at Woodlawn Presbyterian Church \nFor the Business of the Administrative Commission for Dardenne Presbyterian Church
URL:https://glpby.org/event/called-presbytery-gathering-2/
LOCATION:Woodlawn Chapel Presbyterian\, 16520 Clayton Road\, Wildwood\, MO\, United States
CATEGORIES:Gatherings
END:VEVENT
END:VCALENDAR