BEGIN:VCALENDAR
VERSION:2.0
PRODID:-//Presbytery of Giddings-Lovejoy - ECPv6.15.18//NONSGML v1.0//EN
CALSCALE:GREGORIAN
METHOD:PUBLISH
X-WR-CALNAME:Presbytery of Giddings-Lovejoy
X-ORIGINAL-URL:https://glpby.org
X-WR-CALDESC:Events for Presbytery of Giddings-Lovejoy
REFRESH-INTERVAL;VALUE=DURATION:PT1H
X-Robots-Tag:noindex
X-PUBLISHED-TTL:PT1H
BEGIN:VTIMEZONE
TZID:America/Chicago
BEGIN:DAYLIGHT
TZOFFSETFROM:-0600
TZOFFSETTO:-0500
TZNAME:CDT
DTSTART:20230312T080000
END:DAYLIGHT
BEGIN:STANDARD
TZOFFSETFROM:-0500
TZOFFSETTO:-0600
TZNAME:CST
DTSTART:20231105T070000
END:STANDARD
BEGIN:DAYLIGHT
TZOFFSETFROM:-0600
TZOFFSETTO:-0500
TZNAME:CDT
DTSTART:20240310T080000
END:DAYLIGHT
BEGIN:STANDARD
TZOFFSETFROM:-0500
TZOFFSETTO:-0600
TZNAME:CST
DTSTART:20241103T070000
END:STANDARD
BEGIN:DAYLIGHT
TZOFFSETFROM:-0600
TZOFFSETTO:-0500
TZNAME:CDT
DTSTART:20250309T080000
END:DAYLIGHT
BEGIN:STANDARD
TZOFFSETFROM:-0500
TZOFFSETTO:-0600
TZNAME:CST
DTSTART:20251102T070000
END:STANDARD
END:VTIMEZONE
BEGIN:VEVENT
DTSTART;TZID=America/Chicago:20241102T090000
DTEND;TZID=America/Chicago:20241102T140000
DTSTAMP:20260424T021135
CREATED:20240130T161047Z
LAST-MODIFIED:20240130T161405Z
UID:43014-1730538000-1730556000@glpby.org
SUMMARY:Stated Presbytery Gathering
DESCRIPTION:Join Zoom Meeting\nhttps://us02web.zoom.us/j/89103924257 \nMeeting ID: 891 0392 4257
URL:https://glpby.org/event/stated-presbytery-gathering-11/
LOCATION:St. Mark Presbyterian Church\, 601 Claymont Drive\, Ballwin\, MO\, 63011
CATEGORIES:Gatherings
END:VEVENT
END:VCALENDAR