BEGIN:VCALENDAR
VERSION:2.0
PRODID:-//Presbytery of Giddings-Lovejoy - ECPv6.15.18//NONSGML v1.0//EN
CALSCALE:GREGORIAN
METHOD:PUBLISH
X-WR-CALNAME:Presbytery of Giddings-Lovejoy
X-ORIGINAL-URL:https://glpby.org
X-WR-CALDESC:Events for Presbytery of Giddings-Lovejoy
REFRESH-INTERVAL;VALUE=DURATION:PT1H
X-Robots-Tag:noindex
X-PUBLISHED-TTL:PT1H
BEGIN:VTIMEZONE
TZID:America/Chicago
BEGIN:DAYLIGHT
TZOFFSETFROM:-0600
TZOFFSETTO:-0500
TZNAME:CDT
DTSTART:20230312T080000
END:DAYLIGHT
BEGIN:STANDARD
TZOFFSETFROM:-0500
TZOFFSETTO:-0600
TZNAME:CST
DTSTART:20231105T070000
END:STANDARD
BEGIN:DAYLIGHT
TZOFFSETFROM:-0600
TZOFFSETTO:-0500
TZNAME:CDT
DTSTART:20240310T080000
END:DAYLIGHT
BEGIN:STANDARD
TZOFFSETFROM:-0500
TZOFFSETTO:-0600
TZNAME:CST
DTSTART:20241103T070000
END:STANDARD
BEGIN:DAYLIGHT
TZOFFSETFROM:-0600
TZOFFSETTO:-0500
TZNAME:CDT
DTSTART:20250309T080000
END:DAYLIGHT
BEGIN:STANDARD
TZOFFSETFROM:-0500
TZOFFSETTO:-0600
TZNAME:CST
DTSTART:20251102T070000
END:STANDARD
END:VTIMEZONE
BEGIN:VEVENT
DTSTART;TZID=America/Chicago:20241010T093000
DTEND;TZID=America/Chicago:20241010T110000
DTSTAMP:20260420T183400
CREATED:20210309T152345Z
LAST-MODIFIED:20241108T153334Z
UID:40168-1728552600-1728558000@glpby.org
SUMMARY:History Team
DESCRIPTION:
URL:https://glpby.org/event/history-team-2023-01-12-2023-02-09/2024-10-10/
LOCATION:Southminster Presbyterian Church\, 10126 E Watson Rd\, St Louis\, MO\, 63126
CATEGORIES:Meetings
END:VEVENT
BEGIN:VEVENT
DTSTART;TZID=America/Chicago:20241010T093000
DTEND;TZID=America/Chicago:20241010T110000
DTSTAMP:20260420T183400
CREATED:20210309T152345Z
LAST-MODIFIED:20260305T215008Z
UID:44755-1728552600-1728558000@glpby.org
SUMMARY:History Workgroup
DESCRIPTION:
URL:https://glpby.org/event/history-team/2024-10-10/
LOCATION:Southminster Presbyterian Church\, 10126 E Watson Rd\, St Louis\, MO\, 63126
CATEGORIES:Meetings
END:VEVENT
BEGIN:VEVENT
DTSTART;TZID=America/Chicago:20241010T110000
DTEND;TZID=America/Chicago:20241010T120000
DTSTAMP:20260420T183400
CREATED:20210302T171446Z
LAST-MODIFIED:20240924T174605Z
UID:41232-1728558000-1728561600@glpby.org
SUMMARY:NWCC Meeting
DESCRIPTION:Zoom meeting: NWCC\nEvery month on the Second Tuesday \nJoin Zoom Meeting\nhttps://us02web.zoom.us/j/81060149245 \nMeeting ID: 810 6014 9245 \nDial in: (312) 626-6799
URL:https://glpby.org/event/new-worshiping-communities-commission-2024-10-24/
LOCATION:Held Virtually On Zoom
CATEGORIES:Meetings
END:VEVENT
END:VCALENDAR