BEGIN:VCALENDAR
VERSION:2.0
PRODID:-//Presbytery of Giddings-Lovejoy - ECPv6.15.18//NONSGML v1.0//EN
CALSCALE:GREGORIAN
METHOD:PUBLISH
X-ORIGINAL-URL:https://glpby.org
X-WR-CALDESC:Events for Presbytery of Giddings-Lovejoy
REFRESH-INTERVAL;VALUE=DURATION:PT1H
X-Robots-Tag:noindex
X-PUBLISHED-TTL:PT1H
BEGIN:VTIMEZONE
TZID:America/Chicago
BEGIN:DAYLIGHT
TZOFFSETFROM:-0600
TZOFFSETTO:-0500
TZNAME:CDT
DTSTART:20230312T080000
END:DAYLIGHT
BEGIN:STANDARD
TZOFFSETFROM:-0500
TZOFFSETTO:-0600
TZNAME:CST
DTSTART:20231105T070000
END:STANDARD
BEGIN:DAYLIGHT
TZOFFSETFROM:-0600
TZOFFSETTO:-0500
TZNAME:CDT
DTSTART:20240310T080000
END:DAYLIGHT
BEGIN:STANDARD
TZOFFSETFROM:-0500
TZOFFSETTO:-0600
TZNAME:CST
DTSTART:20241103T070000
END:STANDARD
BEGIN:DAYLIGHT
TZOFFSETFROM:-0600
TZOFFSETTO:-0500
TZNAME:CDT
DTSTART:20250309T080000
END:DAYLIGHT
BEGIN:STANDARD
TZOFFSETFROM:-0500
TZOFFSETTO:-0600
TZNAME:CST
DTSTART:20251102T070000
END:STANDARD
END:VTIMEZONE
BEGIN:VEVENT
DTSTART;TZID=America/Chicago:20240806T183000
DTEND;TZID=America/Chicago:20240806T200000
DTSTAMP:20260419T195540
CREATED:20240618T170229Z
LAST-MODIFIED:20240624T174959Z
UID:43869-1722969000-1722974400@glpby.org
SUMMARY:BOP Season of Rebuilding Zoom
DESCRIPTION:GLPBY Board of Pensions – Season of Rebuilding Overview\nHosted by GLPBY Task Force\nTuesday\, August 6\, 2024 at 6:30 p.m.\nVia Zoom: https://us02web.zoom.us/j/85004699192\nWho should attend? Actively serving pastors\, clerks of session\, personnel chairs\, session members\, and church treasurers.\nResource Links:\nhttps://seasonofrebuilding.pensions.org/2025-plan-changes/dues-packages\nhttps://www.pensions.org/decision-guide/ \nFriends\, I apologize for causing confusion and inconvenience. The BOP Overview will be held on Tuesday\, August 6th at 6:30 p.m.\, rather than August 1st.  The original date conflicts with the Public Witness Book Study and I do not want folks to have to choose between the two. Peace\, Liz Rolf Kanerva
URL:https://glpby.org/event/bop-season-of-rebuilding-zoom/
LOCATION:Zoom
CATEGORIES:Meetings
ATTACH;FMTTYPE=image/png:https://glpby.org/wp-content/uploads/BOP-logo-1.png
END:VEVENT
END:VCALENDAR