BEGIN:VCALENDAR
VERSION:2.0
PRODID:-//Presbytery of Giddings-Lovejoy - ECPv6.15.18//NONSGML v1.0//EN
CALSCALE:GREGORIAN
METHOD:PUBLISH
X-ORIGINAL-URL:https://glpby.org
X-WR-CALDESC:Events for Presbytery of Giddings-Lovejoy
REFRESH-INTERVAL;VALUE=DURATION:PT1H
X-Robots-Tag:noindex
X-PUBLISHED-TTL:PT1H
BEGIN:VTIMEZONE
TZID:America/Chicago
BEGIN:DAYLIGHT
TZOFFSETFROM:-0600
TZOFFSETTO:-0500
TZNAME:CDT
DTSTART:20230312T080000
END:DAYLIGHT
BEGIN:STANDARD
TZOFFSETFROM:-0500
TZOFFSETTO:-0600
TZNAME:CST
DTSTART:20231105T070000
END:STANDARD
BEGIN:DAYLIGHT
TZOFFSETFROM:-0600
TZOFFSETTO:-0500
TZNAME:CDT
DTSTART:20240310T080000
END:DAYLIGHT
BEGIN:STANDARD
TZOFFSETFROM:-0500
TZOFFSETTO:-0600
TZNAME:CST
DTSTART:20241103T070000
END:STANDARD
BEGIN:DAYLIGHT
TZOFFSETFROM:-0600
TZOFFSETTO:-0500
TZNAME:CDT
DTSTART:20250309T080000
END:DAYLIGHT
BEGIN:STANDARD
TZOFFSETFROM:-0500
TZOFFSETTO:-0600
TZNAME:CST
DTSTART:20251102T070000
END:STANDARD
END:VTIMEZONE
BEGIN:VEVENT
DTSTART;TZID=America/Chicago:20240709T140000
DTEND;TZID=America/Chicago:20240709T153000
DTSTAMP:20260421T144849
CREATED:20240221T173757Z
LAST-MODIFIED:20240611T172517Z
UID:43170-1720533600-1720539000@glpby.org
SUMMARY:Dynamic Leaders Team Meeting
DESCRIPTION:Dynamic Leaders meet on the second Tuesday of each month. \nZoom link: https://us02web.zoom.us/j/81450894788
URL:https://glpby.org/event/dynamic-leaders-team-meeting-2024-06-11/2024-07-09/
LOCATION:Held Virtually On Zoom
END:VEVENT
BEGIN:VEVENT
DTSTART;TZID=America/Chicago:20240709T160000
DTEND;TZID=America/Chicago:20240709T170000
DTSTAMP:20260421T144849
CREATED:20210302T175751Z
LAST-MODIFIED:20240430T173034Z
UID:39428-1720540800-1720544400@glpby.org
SUMMARY:Administration Team
DESCRIPTION:Zoom meeting:  Administration Team\nEvery month on the Second Tuesday \nJoin Zoom Meeting\nhttps://us02web.zoom.us/j/84405973030 \nIf using the app\, enter Meeting ID: 844 0597 3030 \nFor those calling in\, please Dial: (312) 626-6799 and enter the Meeting ID (above)
URL:https://glpby.org/event/administration-team/2024-07-09/
CATEGORIES:Meetings
END:VEVENT
BEGIN:VEVENT
DTSTART;TZID=America/Chicago:20240709T183000
DTEND;TZID=America/Chicago:20240709T200000
DTSTAMP:20260421T144849
CREATED:20210302T183156Z
LAST-MODIFIED:20250410T152804Z
UID:43916-1720549800-1720555200@glpby.org
SUMMARY:Commission on Ministry
DESCRIPTION:Zoom meeting: Commission on Ministry\nEvery month on the Second Wednesday \nJoin Zoom Meeting\nhttps://us02web.zoom.us/j/751840652 \nMeeting ID: 751 840 652 \nDial in: (312) 626-6799 \n 
URL:https://glpby.org/event/committee-on-ministry-2022-03-09-2023-07-12-2024-01-11/2024-07-09/
CATEGORIES:Meetings
END:VEVENT
END:VCALENDAR