BEGIN:VCALENDAR
VERSION:2.0
PRODID:-//Presbytery of Giddings-Lovejoy - ECPv6.15.18//NONSGML v1.0//EN
CALSCALE:GREGORIAN
METHOD:PUBLISH
X-WR-CALNAME:Presbytery of Giddings-Lovejoy
X-ORIGINAL-URL:https://glpby.org
X-WR-CALDESC:Events for Presbytery of Giddings-Lovejoy
REFRESH-INTERVAL;VALUE=DURATION:PT1H
X-Robots-Tag:noindex
X-PUBLISHED-TTL:PT1H
BEGIN:VTIMEZONE
TZID:America/Chicago
BEGIN:DAYLIGHT
TZOFFSETFROM:-0600
TZOFFSETTO:-0500
TZNAME:CDT
DTSTART:20230312T080000
END:DAYLIGHT
BEGIN:STANDARD
TZOFFSETFROM:-0500
TZOFFSETTO:-0600
TZNAME:CST
DTSTART:20231105T070000
END:STANDARD
BEGIN:DAYLIGHT
TZOFFSETFROM:-0600
TZOFFSETTO:-0500
TZNAME:CDT
DTSTART:20240310T080000
END:DAYLIGHT
BEGIN:STANDARD
TZOFFSETFROM:-0500
TZOFFSETTO:-0600
TZNAME:CST
DTSTART:20241103T070000
END:STANDARD
BEGIN:DAYLIGHT
TZOFFSETFROM:-0600
TZOFFSETTO:-0500
TZNAME:CDT
DTSTART:20250309T080000
END:DAYLIGHT
BEGIN:STANDARD
TZOFFSETFROM:-0500
TZOFFSETTO:-0600
TZNAME:CST
DTSTART:20251102T070000
END:STANDARD
END:VTIMEZONE
BEGIN:VEVENT
DTSTART;VALUE=DATE:20240521
DTEND;VALUE=DATE:20240522
DTSTAMP:20260420T000419
CREATED:20240521T193558Z
LAST-MODIFIED:20250205T170836Z
UID:43697-1716249600-1716335999@glpby.org
SUMMARY:Juneteenth - Presbytery Office Closed
DESCRIPTION:
URL:https://glpby.org/event/juneteenth-presbytery-office-closed/2024-05-21/
ATTACH;FMTTYPE=image/jpeg:https://glpby.org/wp-content/uploads/Juneteenth-1.jpg
END:VEVENT
BEGIN:VEVENT
DTSTART;TZID=America/Chicago:20240521T100000
DTEND;TZID=America/Chicago:20240521T110000
DTSTAMP:20260420T000419
CREATED:20210302T212240Z
LAST-MODIFIED:20241119T190128Z
UID:42985-1716285600-1716289200@glpby.org
SUMMARY:Public Witness
DESCRIPTION:Zoom meeting: Public Witness\nEvery month on the Third Tuesday \nJoin Zoom Meeting\nhttps://us02web.zoom.us/j/83061373674 \nMeeting ID: 830 6137 3674 \nDial in:  (312) 626-6799 \n 
URL:https://glpby.org/event/public-witness-2024-02-15/2024-05-21/
CATEGORIES:Meetings,Public Witness
END:VEVENT
END:VCALENDAR