BEGIN:VCALENDAR
VERSION:2.0
PRODID:-//Presbytery of Giddings-Lovejoy - ECPv6.15.18//NONSGML v1.0//EN
CALSCALE:GREGORIAN
METHOD:PUBLISH
X-WR-CALNAME:Presbytery of Giddings-Lovejoy
X-ORIGINAL-URL:https://glpby.org
X-WR-CALDESC:Events for Presbytery of Giddings-Lovejoy
REFRESH-INTERVAL;VALUE=DURATION:PT1H
X-Robots-Tag:noindex
X-PUBLISHED-TTL:PT1H
BEGIN:VTIMEZONE
TZID:America/Chicago
BEGIN:DAYLIGHT
TZOFFSETFROM:-0600
TZOFFSETTO:-0500
TZNAME:CDT
DTSTART:20230312T080000
END:DAYLIGHT
BEGIN:STANDARD
TZOFFSETFROM:-0500
TZOFFSETTO:-0600
TZNAME:CST
DTSTART:20231105T070000
END:STANDARD
BEGIN:DAYLIGHT
TZOFFSETFROM:-0600
TZOFFSETTO:-0500
TZNAME:CDT
DTSTART:20240310T080000
END:DAYLIGHT
BEGIN:STANDARD
TZOFFSETFROM:-0500
TZOFFSETTO:-0600
TZNAME:CST
DTSTART:20241103T070000
END:STANDARD
BEGIN:DAYLIGHT
TZOFFSETFROM:-0600
TZOFFSETTO:-0500
TZNAME:CDT
DTSTART:20250309T080000
END:DAYLIGHT
BEGIN:STANDARD
TZOFFSETFROM:-0500
TZOFFSETTO:-0600
TZNAME:CST
DTSTART:20251102T070000
END:STANDARD
END:VTIMEZONE
BEGIN:VEVENT
DTSTART;TZID=America/Chicago:20240412T133000
DTEND;TZID=America/Chicago:20240412T150000
DTSTAMP:20260420T014930
CREATED:20240314T222018Z
LAST-MODIFIED:20240314T230202Z
UID:43404-1712928600-1712934000@glpby.org
SUMMARY:Pre-Gathering Session for All Churches
DESCRIPTION:“What ways are you reinventing ministry in your setting? What kind of leadership are these possibilities and challenges calling forth? \nJoin us either in person at John Calvin Presbyterian Church\, Bridgeton\nor online through Zoom here: https://us02web.zoom.us/j/85669942221\nIf using the Zoom App\, use this Meeting ID: 856 6994 2221 \n\n\n\n\nAdd to calendar
URL:https://glpby.org/event/pre-gathering-session-for-all-churches/
LOCATION:John Calvin Presbyterian Church\, 12120 Bridgeton Square Drive\, Bridgeton\, MO\, 63044
CATEGORIES:Gatherings
ATTACH;FMTTYPE=image/jpeg:https://glpby.org/wp-content/uploads/PRE-GATHERING-SESSION-John-Calvin.jpg
END:VEVENT
END:VCALENDAR