BEGIN:VCALENDAR
VERSION:2.0
PRODID:-//Presbytery of Giddings-Lovejoy - ECPv6.15.18//NONSGML v1.0//EN
CALSCALE:GREGORIAN
METHOD:PUBLISH
X-ORIGINAL-URL:https://glpby.org
X-WR-CALDESC:Events for Presbytery of Giddings-Lovejoy
REFRESH-INTERVAL;VALUE=DURATION:PT1H
X-Robots-Tag:noindex
X-PUBLISHED-TTL:PT1H
BEGIN:VTIMEZONE
TZID:America/Chicago
BEGIN:DAYLIGHT
TZOFFSETFROM:-0600
TZOFFSETTO:-0500
TZNAME:CDT
DTSTART:20220313T080000
END:DAYLIGHT
BEGIN:STANDARD
TZOFFSETFROM:-0500
TZOFFSETTO:-0600
TZNAME:CST
DTSTART:20221106T070000
END:STANDARD
BEGIN:DAYLIGHT
TZOFFSETFROM:-0600
TZOFFSETTO:-0500
TZNAME:CDT
DTSTART:20230312T080000
END:DAYLIGHT
BEGIN:STANDARD
TZOFFSETFROM:-0500
TZOFFSETTO:-0600
TZNAME:CST
DTSTART:20231105T070000
END:STANDARD
BEGIN:DAYLIGHT
TZOFFSETFROM:-0600
TZOFFSETTO:-0500
TZNAME:CDT
DTSTART:20240310T080000
END:DAYLIGHT
BEGIN:STANDARD
TZOFFSETFROM:-0500
TZOFFSETTO:-0600
TZNAME:CST
DTSTART:20241103T070000
END:STANDARD
END:VTIMEZONE
BEGIN:VEVENT
DTSTART;TZID=America/Chicago:20231207T110000
DTEND;TZID=America/Chicago:20231207T130000
DTSTAMP:20260419T111713
CREATED:20231205T215719Z
LAST-MODIFIED:20231205T215719Z
UID:42658-1701946800-1701954000@glpby.org
SUMMARY:Public Witness
DESCRIPTION:
URL:https://glpby.org/event/public-witness-2/
LOCATION:Presbytery of Giddings Lovejoy\, 1001 Craig Rd - Oaks Conf Room\, St Louis\, MO\, 63146
ORGANIZER;CN="Presbytery of Giddings-Lovejoy":MAILTO:communication@glpby.org
END:VEVENT
END:VCALENDAR