BEGIN:VCALENDAR
VERSION:2.0
PRODID:-//Presbytery of Giddings-Lovejoy - ECPv6.15.18//NONSGML v1.0//EN
CALSCALE:GREGORIAN
METHOD:PUBLISH
X-ORIGINAL-URL:https://glpby.org
X-WR-CALDESC:Events for Presbytery of Giddings-Lovejoy
REFRESH-INTERVAL;VALUE=DURATION:PT1H
X-Robots-Tag:noindex
X-PUBLISHED-TTL:PT1H
BEGIN:VTIMEZONE
TZID:America/Chicago
BEGIN:DAYLIGHT
TZOFFSETFROM:-0600
TZOFFSETTO:-0500
TZNAME:CDT
DTSTART:20220313T080000
END:DAYLIGHT
BEGIN:STANDARD
TZOFFSETFROM:-0500
TZOFFSETTO:-0600
TZNAME:CST
DTSTART:20221106T070000
END:STANDARD
BEGIN:DAYLIGHT
TZOFFSETFROM:-0600
TZOFFSETTO:-0500
TZNAME:CDT
DTSTART:20230312T080000
END:DAYLIGHT
BEGIN:STANDARD
TZOFFSETFROM:-0500
TZOFFSETTO:-0600
TZNAME:CST
DTSTART:20231105T070000
END:STANDARD
BEGIN:DAYLIGHT
TZOFFSETFROM:-0600
TZOFFSETTO:-0500
TZNAME:CDT
DTSTART:20240310T080000
END:DAYLIGHT
BEGIN:STANDARD
TZOFFSETFROM:-0500
TZOFFSETTO:-0600
TZNAME:CST
DTSTART:20241103T070000
END:STANDARD
END:VTIMEZONE
BEGIN:VEVENT
DTSTART;TZID=America/Chicago:20230823T090000
DTEND;TZID=America/Chicago:20230823T200000
DTSTAMP:20260421T210306
CREATED:20230808T175950Z
LAST-MODIFIED:20230808T175951Z
UID:41999-1692781200-1692820800@glpby.org
SUMMARY:Pre-Gathering Community Conversations
DESCRIPTION:9 am – Oak Hill Presbyterian\n2 pm – Webster Groves Presbyterian\n6:30 pm – Third Presbyterian\nFlyer Found Here 
URL:https://glpby.org/event/pre-gathering-community-conversations/
CATEGORIES:Gatherings
ATTACH;FMTTYPE=image/jpeg:https://glpby.org/wp-content/uploads/PreGathering-8.23.23.jpg
END:VEVENT
END:VCALENDAR