BEGIN:VCALENDAR
VERSION:2.0
PRODID:-//Presbytery of Giddings-Lovejoy - ECPv6.15.18//NONSGML v1.0//EN
CALSCALE:GREGORIAN
METHOD:PUBLISH
X-WR-CALNAME:Presbytery of Giddings-Lovejoy
X-ORIGINAL-URL:https://glpby.org
X-WR-CALDESC:Events for Presbytery of Giddings-Lovejoy
REFRESH-INTERVAL;VALUE=DURATION:PT1H
X-Robots-Tag:noindex
X-PUBLISHED-TTL:PT1H
BEGIN:VTIMEZONE
TZID:America/Chicago
BEGIN:DAYLIGHT
TZOFFSETFROM:-0600
TZOFFSETTO:-0500
TZNAME:CDT
DTSTART:20220313T080000
END:DAYLIGHT
BEGIN:STANDARD
TZOFFSETFROM:-0500
TZOFFSETTO:-0600
TZNAME:CST
DTSTART:20221106T070000
END:STANDARD
BEGIN:DAYLIGHT
TZOFFSETFROM:-0600
TZOFFSETTO:-0500
TZNAME:CDT
DTSTART:20230312T080000
END:DAYLIGHT
BEGIN:STANDARD
TZOFFSETFROM:-0500
TZOFFSETTO:-0600
TZNAME:CST
DTSTART:20231105T070000
END:STANDARD
BEGIN:DAYLIGHT
TZOFFSETFROM:-0600
TZOFFSETTO:-0500
TZNAME:CDT
DTSTART:20240310T080000
END:DAYLIGHT
BEGIN:STANDARD
TZOFFSETFROM:-0500
TZOFFSETTO:-0600
TZNAME:CST
DTSTART:20241103T070000
END:STANDARD
END:VTIMEZONE
BEGIN:VEVENT
DTSTART;TZID=America/Chicago:20230810T093000
DTEND;TZID=America/Chicago:20230810T110000
DTSTAMP:20260420T144630
CREATED:20210309T152345Z
LAST-MODIFIED:20230801T164021Z
UID:37820-1691659800-1691665200@glpby.org
SUMMARY:History Team
DESCRIPTION:
URL:https://glpby.org/event/history-team-2023-01-12-2023-02-09-2023-08-10/
LOCATION:Westminster Presbyterian Church\, 5300 Delmar Blvd\, St Louis\, MO\, 63122
CATEGORIES:Meetings
END:VEVENT
BEGIN:VEVENT
DTSTART;TZID=America/Chicago:20230810T130000
DTEND;TZID=America/Chicago:20230810T143000
DTSTAMP:20260420T144630
CREATED:20210302T191101Z
LAST-MODIFIED:20230731T153628Z
UID:37553-1691672400-1691677800@glpby.org
SUMMARY:Gathering Planning Team
DESCRIPTION:Zoom meeting: Gathering Planning Team\nEvery month on the Second Thursday \nJoin Zoom Meeting\nhttps://us02web.zoom.us/j/87591437703 \nMeeting ID: 875 9143 7703 \nDial in:  (312) 626-6799 \n 
URL:https://glpby.org/event/gathering-planning-team-2023-08-10/
CATEGORIES:Meetings
END:VEVENT
END:VCALENDAR