BEGIN:VCALENDAR
VERSION:2.0
PRODID:-//Presbytery of Giddings-Lovejoy - ECPv6.15.18//NONSGML v1.0//EN
CALSCALE:GREGORIAN
METHOD:PUBLISH
X-WR-CALNAME:Presbytery of Giddings-Lovejoy
X-ORIGINAL-URL:https://glpby.org
X-WR-CALDESC:Events for Presbytery of Giddings-Lovejoy
REFRESH-INTERVAL;VALUE=DURATION:PT1H
X-Robots-Tag:noindex
X-PUBLISHED-TTL:PT1H
BEGIN:VTIMEZONE
TZID:America/Chicago
BEGIN:DAYLIGHT
TZOFFSETFROM:-0600
TZOFFSETTO:-0500
TZNAME:CDT
DTSTART:20220313T080000
END:DAYLIGHT
BEGIN:STANDARD
TZOFFSETFROM:-0500
TZOFFSETTO:-0600
TZNAME:CST
DTSTART:20221106T070000
END:STANDARD
BEGIN:DAYLIGHT
TZOFFSETFROM:-0600
TZOFFSETTO:-0500
TZNAME:CDT
DTSTART:20230312T080000
END:DAYLIGHT
BEGIN:STANDARD
TZOFFSETFROM:-0500
TZOFFSETTO:-0600
TZNAME:CST
DTSTART:20231105T070000
END:STANDARD
BEGIN:DAYLIGHT
TZOFFSETFROM:-0600
TZOFFSETTO:-0500
TZNAME:CDT
DTSTART:20240310T080000
END:DAYLIGHT
BEGIN:STANDARD
TZOFFSETFROM:-0500
TZOFFSETTO:-0600
TZNAME:CST
DTSTART:20241103T070000
END:STANDARD
END:VTIMEZONE
BEGIN:VEVENT
DTSTART;TZID=America/Chicago:20230801T100000
DTEND;TZID=America/Chicago:20230801T133000
DTSTAMP:20260419T204542
CREATED:20230725T142453Z
LAST-MODIFIED:20230725T142601Z
UID:41891-1690884000-1690896600@glpby.org
SUMMARY:Pastors Meeting at Ladue Chapel
DESCRIPTION:All Pastor Gathering\nTuesday\, August 1\n10:00 – 1:30\nLadue Chapel\n9450 Clayton Rd. St. Louis MO 63124\nLet’s get together for good conversation and fellowship! Rev. Dr. Ruben Rosario Rodriguez\, our GLPBY colleague and Professor of Systematic Theology at St. Louis University\, will introduce us to his new book\, Theological          Fragments\, and facilitate our conversation. He will focus on the first two chapters with us. \nPlease register here so Liz Rolf Kanerva can be sure to have enough refreshments etc. for our time together. \n 
URL:https://glpby.org/event/pastors-meeting-at/
LOCATION:Ladue Chapel Presbyterian Church\, 9450 Clayton Rd\, Ladue\, MO\, 63124\, United States
END:VEVENT
END:VCALENDAR