BEGIN:VCALENDAR
VERSION:2.0
PRODID:-//Presbytery of Giddings-Lovejoy - ECPv6.15.18//NONSGML v1.0//EN
CALSCALE:GREGORIAN
METHOD:PUBLISH
X-WR-CALNAME:Presbytery of Giddings-Lovejoy
X-ORIGINAL-URL:https://glpby.org
X-WR-CALDESC:Events for Presbytery of Giddings-Lovejoy
REFRESH-INTERVAL;VALUE=DURATION:PT1H
X-Robots-Tag:noindex
X-PUBLISHED-TTL:PT1H
BEGIN:VTIMEZONE
TZID:America/Chicago
BEGIN:DAYLIGHT
TZOFFSETFROM:-0600
TZOFFSETTO:-0500
TZNAME:CDT
DTSTART:20250309T080000
END:DAYLIGHT
BEGIN:STANDARD
TZOFFSETFROM:-0500
TZOFFSETTO:-0600
TZNAME:CST
DTSTART:20251102T070000
END:STANDARD
BEGIN:DAYLIGHT
TZOFFSETFROM:-0600
TZOFFSETTO:-0500
TZNAME:CDT
DTSTART:20260308T080000
END:DAYLIGHT
BEGIN:STANDARD
TZOFFSETFROM:-0500
TZOFFSETTO:-0600
TZNAME:CST
DTSTART:20261101T070000
END:STANDARD
BEGIN:DAYLIGHT
TZOFFSETFROM:-0600
TZOFFSETTO:-0500
TZNAME:CDT
DTSTART:20270314T080000
END:DAYLIGHT
BEGIN:STANDARD
TZOFFSETFROM:-0500
TZOFFSETTO:-0600
TZNAME:CST
DTSTART:20271107T070000
END:STANDARD
BEGIN:DAYLIGHT
TZOFFSETFROM:-0600
TZOFFSETTO:-0500
TZNAME:CDT
DTSTART:20280312T080000
END:DAYLIGHT
BEGIN:STANDARD
TZOFFSETFROM:-0500
TZOFFSETTO:-0600
TZNAME:CST
DTSTART:20281105T070000
END:STANDARD
END:VTIMEZONE
BEGIN:VEVENT
DTSTART;VALUE=DATE:20261126
DTEND;VALUE=DATE:20261127
DTSTAMP:20260421T203037
CREATED:20210322T192155Z
LAST-MODIFIED:20250205T172131Z
UID:44552-1795651200-1795737599@glpby.org
SUMMARY:Thanksgiving Holiday - Presbytery Office Closed
DESCRIPTION:
URL:https://glpby.org/event/thanksgiving-holiday-presbytery-office-closed/2026-11-26/
END:VEVENT
BEGIN:VEVENT
DTSTART;VALUE=DATE:20261127
DTEND;VALUE=DATE:20261128
DTSTAMP:20260421T203037
CREATED:20210322T192155Z
LAST-MODIFIED:20210322T192155Z
UID:44896-1795737600-1795823999@glpby.org
SUMMARY:Thanksgiving Holiday - Presbytery Office Closed
DESCRIPTION:
URL:https://glpby.org/event/thanksgiving-holiday-presbytery-office-closed/2026-11-27/
END:VEVENT
BEGIN:VEVENT
DTSTART;VALUE=DATE:20271125
DTEND;VALUE=DATE:20271126
DTSTAMP:20260421T203037
CREATED:20210322T192155Z
LAST-MODIFIED:20210322T192155Z
UID:45956-1827100800-1827187199@glpby.org
SUMMARY:Thanksgiving Holiday - Presbytery Office Closed
DESCRIPTION:
URL:https://glpby.org/event/thanksgiving-holiday-presbytery-office-closed/2027-11-25/
END:VEVENT
BEGIN:VEVENT
DTSTART;VALUE=DATE:20271126
DTEND;VALUE=DATE:20271127
DTSTAMP:20260421T203037
CREATED:20210322T192155Z
LAST-MODIFIED:20210322T192155Z
UID:45957-1827187200-1827273599@glpby.org
SUMMARY:Thanksgiving Holiday - Presbytery Office Closed
DESCRIPTION:
URL:https://glpby.org/event/thanksgiving-holiday-presbytery-office-closed/2027-11-26/
END:VEVENT
END:VCALENDAR